BEGIN:VCALENDAR
VERSION:2.0
PRODID:-//Comedy ACT - ECPv6.15.11//NONSGML v1.0//EN
CALSCALE:GREGORIAN
METHOD:PUBLISH
X-ORIGINAL-URL:https://comedyact.com.au
X-WR-CALDESC:Events for Comedy ACT
REFRESH-INTERVAL;VALUE=DURATION:PT1H
X-Robots-Tag:noindex
X-PUBLISHED-TTL:PT1H
BEGIN:VTIMEZONE
TZID:Australia/Sydney
BEGIN:STANDARD
TZOFFSETFROM:+1100
TZOFFSETTO:+1000
TZNAME:AEST
DTSTART:20190406T160000
END:STANDARD
BEGIN:DAYLIGHT
TZOFFSETFROM:+1000
TZOFFSETTO:+1100
TZNAME:AEDT
DTSTART:20191005T160000
END:DAYLIGHT
BEGIN:STANDARD
TZOFFSETFROM:+1100
TZOFFSETTO:+1000
TZNAME:AEST
DTSTART:20200404T160000
END:STANDARD
BEGIN:DAYLIGHT
TZOFFSETFROM:+1000
TZOFFSETTO:+1100
TZNAME:AEDT
DTSTART:20201003T160000
END:DAYLIGHT
BEGIN:STANDARD
TZOFFSETFROM:+1100
TZOFFSETTO:+1000
TZNAME:AEST
DTSTART:20210403T160000
END:STANDARD
BEGIN:DAYLIGHT
TZOFFSETFROM:+1000
TZOFFSETTO:+1100
TZNAME:AEDT
DTSTART:20211002T160000
END:DAYLIGHT
END:VTIMEZONE
BEGIN:VEVENT
DTSTART;TZID=Australia/Sydney:20200201T070000
DTEND;TZID=Australia/Sydney:20200201T090000
DTSTAMP:20260424T224242
CREATED:20191210T003428Z
LAST-MODIFIED:20200115T051408Z
UID:3858-1580540400-1580547600@comedyact.com.au
SUMMARY:Beyond Comedy
DESCRIPTION:Beyond Comedy returns in January with comedians hungry for the stage after a Summer hiatus! Join Tom Gibson\, Cy Fahey\, Anthony Tomic\, Sue Stanic\, Jeffrey Charles\, Dylan Holmes and Dom for a hilarious night of comedy in Weston Creek. \nTickets just $15 online or $20 at the door until sold out. \nCLICK HERE FOR TICKETS \nBeyond Comedy is a wheelchair accessible venue.
URL:https://comedyact.com.au/event/beyond-comedy-8/
LOCATION:Beyond Q Books\, Bar & Cafe\, 11 Brierly Street Weston Creek\, Canberra\, 2611
ATTACH;FMTTYPE=image/jpeg:https://comedyact.com.au/wp-content/uploads/2019/12/Beyond-31-Jan.jpg
END:VEVENT
BEGIN:VEVENT
DTSTART;TZID=Australia/Sydney:20200229T070000
DTEND;TZID=Australia/Sydney:20200229T090000
DTSTAMP:20260424T224242
CREATED:20200216T052239Z
LAST-MODIFIED:20200216T055241Z
UID:3961-1582959600-1582966800@comedyact.com.au
SUMMARY:Beyond Comedy
DESCRIPTION:After a sell out show last time\, Beyond Comedy is bringing more hilarity in February with Greg Kimball\, Sarah Pam\, Bill Makin\, Kathryn Thomas\, Rowena Robinson\, Tom Gibson\, Caitlin Maggs and more! Tickets online now for $15 or $25 if remaining at the door. \nBuy ONLINE HERE
URL:https://comedyact.com.au/event/beyond-comedy-9/
LOCATION:Beyond Q Books\, Bar & Cafe\, 11 Brierly Street Weston Creek\, Canberra\, 2611
ATTACH;FMTTYPE=image/jpeg:https://comedyact.com.au/wp-content/uploads/2020/02/Beyond-Feb-2020.jpg
END:VEVENT
END:VCALENDAR