BEGIN:VCALENDAR
VERSION:2.0
PRODID:-//Comedy ACT - ECPv6.15.11//NONSGML v1.0//EN
CALSCALE:GREGORIAN
METHOD:PUBLISH
X-ORIGINAL-URL:https://comedyact.com.au
X-WR-CALDESC:Events for Comedy ACT
REFRESH-INTERVAL;VALUE=DURATION:PT1H
X-Robots-Tag:noindex
X-PUBLISHED-TTL:PT1H
BEGIN:VTIMEZONE
TZID:Australia/Sydney
BEGIN:STANDARD
TZOFFSETFROM:+1100
TZOFFSETTO:+1000
TZNAME:AEST
DTSTART:20190406T160000
END:STANDARD
BEGIN:DAYLIGHT
TZOFFSETFROM:+1000
TZOFFSETTO:+1100
TZNAME:AEDT
DTSTART:20191005T160000
END:DAYLIGHT
BEGIN:STANDARD
TZOFFSETFROM:+1100
TZOFFSETTO:+1000
TZNAME:AEST
DTSTART:20200404T160000
END:STANDARD
BEGIN:DAYLIGHT
TZOFFSETFROM:+1000
TZOFFSETTO:+1100
TZNAME:AEDT
DTSTART:20201003T160000
END:DAYLIGHT
BEGIN:STANDARD
TZOFFSETFROM:+1100
TZOFFSETTO:+1000
TZNAME:AEST
DTSTART:20210403T160000
END:STANDARD
BEGIN:DAYLIGHT
TZOFFSETFROM:+1000
TZOFFSETTO:+1100
TZNAME:AEDT
DTSTART:20211002T160000
END:DAYLIGHT
END:VTIMEZONE
BEGIN:VEVENT
DTSTART;TZID=Australia/Sydney:20200918T050000
DTEND;TZID=Australia/Sydney:20200918T070000
DTSTAMP:20260424T004726
CREATED:20200909T001746Z
LAST-MODIFIED:20200909T002147Z
UID:3995-1600405200-1600412400@comedyact.com.au
SUMMARY:Sideway's Comedy Open Mic
DESCRIPTION:A FREE open mic comedy night every second Thursday at 7pm hosted at Sideway Bar\, 21 East Row Canberra City (next door to the old Phoenix Bar). It’s a comedy room run by women who wanted to create a warm and inclusive open mic night. Women\, LGBTQI+\, BIPOC and people with disabilities are encouraged to sign up (we are very sorry though\, there are stairs to the venue so it is not wheelchair accessible as yet\, the venue is working on it). \nSign up by liking the FB page and filling out the Google Form when it is released each Sunday 2pm-6pm before the Thursday gig. Next gig is Thursday 17 September\, Google doc will be released Sunday 14 September 2pm. \nDue to COVID-19 spcial distancing requirements\, limited free tickets are available for audience members. These will be released via a link on the Sideway’s Comedy Facebook Page.
URL:https://comedyact.com.au/event/sideways-comedy-open-mic/
LOCATION:Sideway Bar\, Level 1\, 21 East Row\, Canberra City\, ACT\, 2601\, Australia
ATTACH;FMTTYPE=image/jpeg:https://comedyact.com.au/wp-content/uploads/2020/09/Sideways-Comedy-2.jpg
END:VEVENT
END:VCALENDAR