BEGIN:VCALENDAR
VERSION:2.0
PRODID:-//Comedy ACT - ECPv6.15.11//NONSGML v1.0//EN
CALSCALE:GREGORIAN
METHOD:PUBLISH
X-WR-CALNAME:Comedy ACT
X-ORIGINAL-URL:https://comedyact.com.au
X-WR-CALDESC:Events for Comedy ACT
REFRESH-INTERVAL;VALUE=DURATION:PT1H
X-Robots-Tag:noindex
X-PUBLISHED-TTL:PT1H
BEGIN:VTIMEZONE
TZID:Australia/Sydney
BEGIN:STANDARD
TZOFFSETFROM:+1100
TZOFFSETTO:+1000
TZNAME:AEST
DTSTART:20240406T160000
END:STANDARD
BEGIN:DAYLIGHT
TZOFFSETFROM:+1000
TZOFFSETTO:+1100
TZNAME:AEDT
DTSTART:20241005T160000
END:DAYLIGHT
BEGIN:STANDARD
TZOFFSETFROM:+1100
TZOFFSETTO:+1000
TZNAME:AEST
DTSTART:20250405T160000
END:STANDARD
BEGIN:DAYLIGHT
TZOFFSETFROM:+1000
TZOFFSETTO:+1100
TZNAME:AEDT
DTSTART:20251004T160000
END:DAYLIGHT
BEGIN:STANDARD
TZOFFSETFROM:+1100
TZOFFSETTO:+1000
TZNAME:AEST
DTSTART:20260404T160000
END:STANDARD
BEGIN:DAYLIGHT
TZOFFSETFROM:+1000
TZOFFSETTO:+1100
TZNAME:AEDT
DTSTART:20261003T160000
END:DAYLIGHT
END:VTIMEZONE
BEGIN:VEVENT
DTSTART;TZID=Australia/Sydney:20250503T183000
DTEND;TZID=Australia/Sydney:20250503T213000
DTSTAMP:20260424T033230
CREATED:20250415T115447Z
LAST-MODIFIED:20250421T111502Z
UID:5472-1746297000-1746307800@comedyact.com.au
SUMMARY:Contentious Election Night
DESCRIPTION:Join us at Contentious Character Urban Winery on Saturday\, 3rd May\, for an election night with a twist. Sure\, we will have the coverage on TV. It is not election night without Antony Green calling it for Australia. But it’s time Australia had a panel of analysts who are more laughable than the candidates. \nFor you\, the people of Canberra\, Fenner\, Bean and Eden-Monaro\, we’ve got a panel of legendary Canberra comedians for your election night. Some with plenty of political nous. Some with none at all! Diverse as you can get across the political universe they will be entertaining and engaging you with live\, unfiltered\, and outrageously funny commentary on the election coverage\, the campaign\, the political players and the pundits. \nOur panel has been curated by the Canberra Comedy Team who have brought you the wildly popular Contentious Comedy Debates. Early polling suggest this will sellout fast! \nWhat’s in store?\n\n\nAbsurd and witty political analysis from the panel throughout the night\n\n\nPolitical games sillier than those played by the politicians\n\n\nA room full of strangers to share the chaos (because why stress alone?)\n\n\nThe perfect excuse to drink wine and heckle the TV.\n\n\nTickets: $29 (show only\, drinks & food sold separately)\nWhere: Building 4\, 1 Dairy Road\, Fyshwick ACT 2609\nWhen: Saturday\, 3rd May | 6:30 pm – 9:30 pm\n  \nOf course\, you can come early. The bar will be open! And if we don’t have a result by 9:30pm you can stick around and keep watching it on tv until late. And yes\, the bar will still be open then too! \nNo matter which side of the political fence you sit on\, let’s raise a glass\, ruffle some feathers\, and make election night actually entertaining.
URL:https://comedyact.com.au/event/contentious-election-night/
LOCATION:Contentious Character Urban Winery\, 1 Dairy Road\, Fyshwick\, ACT\, 2609\, Australia
CATEGORIES:Feature
ATTACH;FMTTYPE=image/png:https://comedyact.com.au/wp-content/uploads/2025/04/Contentious-Election-Night-Image.png
END:VEVENT
BEGIN:VEVENT
DTSTART;TZID=Australia/Sydney:20250507T190000
DTEND;TZID=Australia/Sydney:20250507T210000
DTSTAMP:20260424T033230
CREATED:20250418T032920Z
LAST-MODIFIED:20250421T223001Z
UID:5479-1746644400-1746651600@comedyact.com.au
SUMMARY:Canberra Comedy Club
DESCRIPTION:Canberra Comedy Club returns for May with a massive lineup of comedians\, including special guests from Wagga Wagga Aidan Mungai and Sam Lloyd\, along with locals Sam Silla\, Tanya Lossano\, Aidan Mungai\, Sam Lloyd\, Laura Johnston\, Sarah Ison\, Jeremy Smith and Marie Anagnostis. \nVenue: Fun Time Pony\, 122 Alinga Street\, Civic\nDate: Wednesday 7 May 2025\nTime: 7:00pm (Duration 2 hours including interval)\nCost: $30 \n \n\n 
URL:https://comedyact.com.au/event/canberra-comedy-club/
LOCATION:Fun Time Pony\, 122 Alinga St\, Canberra City\, ACT\, 2600\, Australia
CATEGORIES:CanberraComedyClub,Feature,Ticketed
ATTACH;FMTTYPE=image/jpeg:https://comedyact.com.au/wp-content/uploads/2025/04/1920x1080_ComedyClub-20250507v3.jpg
END:VEVENT
END:VCALENDAR