BEGIN:VCALENDAR
VERSION:2.0
PRODID:-//Comedy ACT - ECPv6.15.11//NONSGML v1.0//EN
CALSCALE:GREGORIAN
METHOD:PUBLISH
X-WR-CALNAME:Comedy ACT
X-ORIGINAL-URL:https://comedyact.com.au
X-WR-CALDESC:Events for Comedy ACT
REFRESH-INTERVAL;VALUE=DURATION:PT1H
X-Robots-Tag:noindex
X-PUBLISHED-TTL:PT1H
BEGIN:VTIMEZONE
TZID:Australia/Sydney
BEGIN:STANDARD
TZOFFSETFROM:+1100
TZOFFSETTO:+1000
TZNAME:AEST
DTSTART:20140405T160000
END:STANDARD
BEGIN:DAYLIGHT
TZOFFSETFROM:+1000
TZOFFSETTO:+1100
TZNAME:AEDT
DTSTART:20141004T160000
END:DAYLIGHT
BEGIN:STANDARD
TZOFFSETFROM:+1100
TZOFFSETTO:+1000
TZNAME:AEST
DTSTART:20150404T160000
END:STANDARD
BEGIN:DAYLIGHT
TZOFFSETFROM:+1000
TZOFFSETTO:+1100
TZNAME:AEDT
DTSTART:20151003T160000
END:DAYLIGHT
BEGIN:STANDARD
TZOFFSETFROM:+1100
TZOFFSETTO:+1000
TZNAME:AEST
DTSTART:20160402T160000
END:STANDARD
BEGIN:DAYLIGHT
TZOFFSETFROM:+1000
TZOFFSETTO:+1100
TZNAME:AEDT
DTSTART:20161001T160000
END:DAYLIGHT
BEGIN:STANDARD
TZOFFSETFROM:+1100
TZOFFSETTO:+1000
TZNAME:AEST
DTSTART:20170401T160000
END:STANDARD
BEGIN:DAYLIGHT
TZOFFSETFROM:+1000
TZOFFSETTO:+1100
TZNAME:AEDT
DTSTART:20170930T160000
END:DAYLIGHT
END:VTIMEZONE
BEGIN:VEVENT
DTSTART;TZID=Australia/Sydney:20160119T080000
DTEND;TZID=Australia/Sydney:20160119T220000
DTSTAMP:20260421T151703
CREATED:20160107T233251Z
LAST-MODIFIED:20160111T104133Z
UID:2181-1453190400-1453240800@comedyact.com.au
SUMMARY:Open Mic @ the Front
DESCRIPTION:Open Mic @ the Front is Canberra’s oldest and most prestigious open mic. \nA relaxed atmosphere that is friendly to first timers and veteran’s alike – it’s always a good night out. \nIf you want to get up\, come a bit earlier and talk to the MC. Free entry! \nUsually on the second Tuesday of every month\, the Front will be on on the third Tuesday this month.
URL:https://comedyact.com.au/event/open-mic-the-front-3/
LOCATION:The Front Cafe and Gallery\, 2 Wattle Street\, Lyneham\, ACT\, 2602\, Australia
ATTACH;FMTTYPE=image/jpeg:https://comedyact.com.au/wp-content/uploads/2016/01/Front.jpg
END:VEVENT
BEGIN:VEVENT
DTSTART;TZID=Australia/Sydney:20160115T200000
DTEND;TZID=Australia/Sydney:20160115T220000
DTSTAMP:20260421T151703
CREATED:20151216T035730Z
LAST-MODIFIED:20160113T230055Z
UID:1863-1452888000-1452895200@comedyact.com.au
SUMMARY:Uni Pub Comedy featuring Tony Martin
DESCRIPTION:Sold Out \nComedian Tony Martin from The Late Show\, Martin/Molloy and Get This in his first proper stand-up show in ages.   Fresh from a sold-out season at The Melbourne Fringe don’t miss this special event – One night only! \n  \n“Fantastically funny” – Crikey.com\n“Utterly hilarious” – Squirrel Comedy\n“Lanky and personable” – The Age \nTony will be supported by local comics \nTickets are $20 online here  or $25 on the door (if there are any left)
URL:https://comedyact.com.au/event/uni-pub-comedy-featuring-tony-martin/
LOCATION:Uni Pub\, 17 London Circuit\, Canberra\, 2600\, Australia
ATTACH;FMTTYPE=image/jpeg:https://comedyact.com.au/wp-content/uploads/2015/12/TonyMartin.jpg
ORGANIZER;CN="David Graham":MAILTO:punchline at comedyact dot com dot au
END:VEVENT
BEGIN:VEVENT
DTSTART;TZID=Australia/Sydney:20151217T200000
DTEND;TZID=Australia/Sydney:20151217T220000
DTSTAMP:20260421T151703
CREATED:20151123T173255Z
LAST-MODIFIED:20151123T173255Z
UID:1555-1450382400-1450389600@comedyact.com.au
SUMMARY:LolPol with Simon Bower
DESCRIPTION:A staple of the Canberra comedy scene for the past four years\, Simon Bower is the annoying little brother you never had. He giggles at his own jokes\, he’s bad at girls and he’s writing this bio in third-person like a pretentious ass. But he’s also disarmingly honest and willing to tell very embarrassing stories about himself in order to make strangers laugh\, even having done so in sellout shows at the Canberra Comedy Festival\, Melbourne International Comedy Festival and Adelaide Fringe Festival.  \nSo come down to Polit Bar to get to know Simon Bower a little better\, if only so you can learn from his mistakes (and laugh at them\, of course). \nFeaturing the Holy Grails Anthony Tomic\, Ellie Windred and Harris Stuckey. \nChris Ryan MC
URL:https://comedyact.com.au/event/lolpol-with-simon-bower/
LOCATION:Polit Bar\, 8 on Franklin Street\, Manuka\, ACT\, Australia
END:VEVENT
BEGIN:VEVENT
DTSTART;TZID=Australia/Sydney:20151212T200000
DTEND;TZID=Australia/Sydney:20151212T220000
DTSTAMP:20260421T151703
CREATED:20151130T094224Z
LAST-MODIFIED:20151130T094224Z
UID:1647-1449950400-1449957600@comedyact.com.au
SUMMARY:The Bunker Comedy presents - THE STEVENSON EXPERIENCE
DESCRIPTION:  \nWho knows what 2016 will bring\, but one thing is for sure the final show of 2015 will be cracker with Canberra lads made good – The Stevenson Experience. \nBenjamin and James Stevenson are identical twin brothers who combine to form the musical comedy duo The Stevenson Experience. They have placed in the Grand Final of every national comedy competition in Australia\, and been crowned the nation’s funniest new comedians. \nThe Stevenson Experience are experienced and versatile festival performers\, having sold out multiple seasons at the Melbourne International Comedy Festival 2011\, 2012\, 2013\, 2014\, and 2015 Adelaide Fringe Festival 2013\, 2014\, and 2015\, and the Canberra Comedy Festival in 2013\, 2014\, and 2015. They are regular headline acts all across Australia. They have been featured on ABC Television\, Channel 10\, The Comedy Channel\, JJJ Radio\, ABC 666 (Canberra) and 774 (Melbourne). \nYearly\, The Stevenson Experience perform over 100 shows to over 20\,000 people\, and tour both nationally and internationally\, being invited to headline in New Zealand. The Stevenson Experience have performed on the Canberra Comedy Festival Gala\, Sydney Comedy Festival Gala\, Sydney Comedy Festival Showcase Tour\, Melbourne International Comedy Festival Club\, and the prestigious invite-only Just For Laughs Festival at the Sydney Opera House. They have performed with Amy Schumer\, The Doug Anthony All Stars\, Jimeoin\, Sammy J\, Matt Okine\, Charlie Pickering\, Bo Burnham\, Wil Anderson\, Dave Hughes\, Fiona O’Loughlin and many more. \nGet your tickets here
URL:https://comedyact.com.au/event/the-bunker-comedy-presents-the-stevenson-experience/
LOCATION:Ginninderra Labor Club\, 21 Charnwood Pl\, Charnwood\, ACT\, 2615\, Australia
END:VEVENT
BEGIN:VEVENT
DTSTART;TZID=Australia/Sydney:20151208T080000
DTEND;TZID=Australia/Sydney:20151208T220000
DTSTAMP:20260421T151703
CREATED:20151206T104805Z
LAST-MODIFIED:20151206T104805Z
UID:1731-1449561600-1449612000@comedyact.com.au
SUMMARY:Open Mic @ the Front
DESCRIPTION:Open Mic @ the Front is Canberra’s oldest and most prestigious open mic. Come along for a night of fantastic laughs\, free entry\, anyone can have a go! \n  \n 
URL:https://comedyact.com.au/event/open-mic-the-front-2/
LOCATION:The Front Cafe and Gallery\, 2 Wattle Street\, Lyneham\, ACT\, 2602\, Australia
END:VEVENT
BEGIN:VEVENT
DTSTART;TZID=Australia/Sydney:20151206T063000
DTEND;TZID=Australia/Sydney:20151206T083000
DTSTAMP:20260421T151703
CREATED:20150920T065447Z
LAST-MODIFIED:20150920T065447Z
UID:607-1449383400-1449390600@comedyact.com.au
SUMMARY:A Very Canberra Comedy Festival Christmas
DESCRIPTION:Canberra Comedy Festival has a very special Christmas present for you! \nJoin the festival’s best comedians as they get you into the festive spirit in an amazing show packed with comedy superstars. This 2 hour showcase event features some of the very best acts from the 2016 festival line-up. \nDon’t wait until March 2016 to get your laughter fix\, join us this Xmas for the best Santa-sack full of laughs this side of the North Pole! \nVery limited tickets. Will sell out. Book Now. \nCLICK HERE TO BOOK ONLINE \nTickets\n$39.00* Full\n$37.00* Concession \n* plus ticketing transaction fee of $3.30 per booking
URL:https://comedyact.com.au/event/a-very-canberra-comedy-festival-christmas/
LOCATION:Canberra Theatre Centre\, Civic Square\, London Circuit\, Canberra\, ACT\, 2600\, Australia
END:VEVENT
BEGIN:VEVENT
DTSTART;TZID=Australia/Sydney:20151203T070000
DTEND;TZID=Australia/Sydney:20151203T090000
DTSTAMP:20260421T151703
CREATED:20150920T001310Z
LAST-MODIFIED:20151201T093441Z
UID:580-1449126000-1449133200@comedyact.com.au
SUMMARY:SOLD OUT - Comedy Club at The Civic Pub Christmas Special
DESCRIPTION:  \nDecember Comedy Club at The Civic Pub is our regular Christmas Special. The show will feature host Marty Bright (Sydney) and a massive line-up featuring 12 of our favourite comedians including Emo Parsonson\, Jay Sullivan\, Hamish Hudson\, Chris Ryan\, Eddy Nelson\, Tony Brennan\, David Graham\, Greg Kimball\, Harris Stuckey\, Danny Bensley and Charlie McCann (Sydney). \nCOST: $15 (plus $0.30 booking fee) pre-booked\, or $18 at the door if still available. \nPLEASE NOTE: Online sales close at 7pm on the day of the show. \nSOLD OUT
URL:https://comedyact.com.au/event/comedy-club-at-the-civic-pub-christmas-special/
LOCATION:The Civic Pub\, Civic Pub\, 8 Lonsdale Street\, Braddon\, ACT\, 2612\, Australia
END:VEVENT
BEGIN:VEVENT
DTSTART;TZID=Australia/Sydney:20151119T200000
DTEND;TZID=Australia/Sydney:20151119T220000
DTSTAMP:20260421T151703
CREATED:20151027T233433Z
LAST-MODIFIED:20151027T233538Z
UID:1185-1447963200-1447970400@comedyact.com.au
SUMMARY:LolPol with Andrew Bensley
DESCRIPTION:Andrew Bensley has been pottering about the Canberra comedy scene for a year and a half\, delivering half-baked premises and awkward punchlines with aplomb. Come hang out and watch him fumble through 30 minutes stand up and then buy him a beer please\, he’s very hard up for cash at the moment. \nSupported by the men in the mirror Riley Bell\, Danny Bensley and Tanya Losanno with MC Harris Stuckey.  \n Tickets $5 ($10 at the door)
URL:https://comedyact.com.au/event/lolpol-with-andrew-bensley/
LOCATION:Polit Bar\, 8 on Franklin Street\, Manuka\, ACT\, Australia
END:VEVENT
BEGIN:VEVENT
DTSTART;TZID=Australia/Sydney:20151118T200000
DTEND;TZID=Australia/Sydney:20151118T220000
DTSTAMP:20260421T151703
CREATED:20151029T034724Z
LAST-MODIFIED:20151109T025125Z
UID:1203-1447876800-1447884000@comedyact.com.au
SUMMARY:Uni Pub Comedy Featuring "El Jaguar"
DESCRIPTION:El Jaguar is returning to Canberra after his sell out show at the Civic Pub. \nJoin former WWF masked Mexican wrestler El Jaguar for a high energy\, highly interactive evening of spontaneous fiesta making. \n“A rip roaring show of immense proportions”-theatreview \nNight will be hosted by Emo Parsonson with supports Tom Gibson\, Nick Smith and Tim Noon \nCost: $20 online or $25 at the door. \nOnline Sales close at 7pm on the day of the show. \nClick here to book tickets
URL:https://comedyact.com.au/event/uni-pub-comedy-featuring-el-jaguar/
LOCATION:Uni Pub\, 17 London Circuit\, Canberra\, 2600\, Australia
END:VEVENT
BEGIN:VEVENT
DTSTART;TZID=Australia/Sydney:20151114T200000
DTEND;TZID=Australia/Sydney:20151114T220000
DTSTAMP:20260421T151703
CREATED:20151015T091159Z
LAST-MODIFIED:20151015T095105Z
UID:999-1447531200-1447538400@comedyact.com.au
SUMMARY:Bunker Comedy featuring Daniel Connell
DESCRIPTION:Bunker Comedy featuring Daniel Connell plus supports. \nDaniel Connell could easily be described as the ideal Aussie comedian; affable\, loveable and hilarious. His observational\, warm\, sometimes cheeky comedy has seen him take to stages all over the country. One of the most active comedians in Australia\, Daniel has been seen sharing a stage with comedians like Jimeoin\, Glenn Robbins\, Denise Scott and Dave Hughes. \nCOST: $16.50 \nCLICK HERE TO BOOK ONLINE
URL:https://comedyact.com.au/event/bunker-comedy-featuring-daniel-connell/
LOCATION:Ginninderra Labor Club\, 21 Charnwood Pl\, Charnwood\, ACT\, 2615\, Australia
END:VEVENT
BEGIN:VEVENT
DTSTART;TZID=Australia/Sydney:20151113T200000
DTEND;TZID=Australia/Sydney:20151113T220000
DTSTAMP:20260421T151703
CREATED:20150920T064310Z
LAST-MODIFIED:20151018T221259Z
UID:604-1447444800-1447452000@comedyact.com.au
SUMMARY:Royal Comedy featuring Daniel Connell
DESCRIPTION:Royal Comedy featuring Daniel Connell plus supports. \nDaniel Connell could easily be described as the ideal Aussie comedian; affable\, loveable and hilarious. His observational\, warm\, sometimes cheeky comedy has seen him take to stages all over the country. One of the most active comedians in Australia\, Daniel has been seen sharing a stage with comedians like Jimeoin\, Glenn Robbins\, Denise Scott and Dave Hughes. \nHosted by Emo Parsonson\, with supporting sets from Hamish Hudson\, Grant Follett\, Danny Bensley and Harris Stuckey. \nCOST: $15 (plus $0.30 booking fee) pre-booked\, or $20 at the door if still available. \nPLEASE NOTE: Online sales close at 7pm on the day of the show. \nCLICK HERE TO BOOK ONLINE
URL:https://comedyact.com.au/event/royal-comedy-featuring-daniel-connell/
LOCATION:The Royal Hotel\, 85 Monaro Street\, Queanbeyan\, NSW\, 2620\, Australia
END:VEVENT
BEGIN:VEVENT
DTSTART;TZID=Australia/Sydney:20151112T200000
DTEND;TZID=Australia/Sydney:20151112T220000
DTSTAMP:20260421T151703
CREATED:20151021T114611Z
LAST-MODIFIED:20151025T002645Z
UID:1085-1447358400-1447365600@comedyact.com.au
SUMMARY:A Shot & A Beer with Alice Fraser
DESCRIPTION:A Shot & A Beer is back on 12 November with the international sensation Alice Fraser. Alice is just back from the Edinburgh Fringe Festival performing her critically acclaimed solo show Savage. As if you need more convincing\, Alice has performed sold out solo shows at the Melbourne International Comedy Festival\, Sydney Comedy Festival\, Canberra Comedy Festival\, Perth\, Adelaide and Edinburgh Fringe Festivals. She has performed all over the world\, from Cambridge to New York\, and from London to Damascus. \nIn short – this is gonna be a good one. \nLocal supports to be announced. \nTickets $10 online or $15 at the door. Get your tickets  here.
URL:https://comedyact.com.au/event/a-shot-a-beer-with-alice-fraser/
LOCATION:The Civic Pub\, Civic Pub\, 8 Lonsdale Street\, Braddon\, ACT\, 2612\, Australia
END:VEVENT
BEGIN:VEVENT
DTSTART;TZID=Australia/Sydney:20151105T070000
DTEND;TZID=Australia/Sydney:20151105T090000
DTSTAMP:20260421T151703
CREATED:20150918T233712Z
LAST-MODIFIED:20150920T000047Z
UID:522-1446706800-1446714000@comedyact.com.au
SUMMARY:Comedy Club at The Civic Pub
DESCRIPTION:November Comedy Club at The Civic Pub features a huge line-up of acts including Jay Sullivan and interstate guests Ray Badran\, Sam Campbell and John Cruickshank. \nCOST: $15 (plus $0.30 booking fee) pre-booked\, or $18 at the door if still available. \nPLEASE NOTE: Online sales close at 7pm on the day of the show. \nCLICK HERE TO BOOK ONLINE
URL:https://comedyact.com.au/event/comedy-club-at-the-civic-pub/
LOCATION:The Civic Pub\, Civic Pub\, 8 Lonsdale Street\, Braddon\, ACT\, 2612\, Australia
END:VEVENT
BEGIN:VEVENT
DTSTART;TZID=Australia/Sydney:20151029T203000
DTEND;TZID=Australia/Sydney:20151029T220000
DTSTAMP:20260421T151703
CREATED:20151023T001654Z
LAST-MODIFIED:20151024T012205Z
UID:1110-1446150600-1446156000@comedyact.com.au
SUMMARY:Tim Noon Presents: Competitive Guess Who?
DESCRIPTION:Two comedians battle it out against two other comedians for board game supremacy\, bragging rights and your enjoyment.  \nComedic mastermind Tim Noon pits Canberra’s most handsome comedians against each other in a twisted and fickle game of Guess Who.  \nFeaturing: Harris Stuckey\, Andrew Bensley\, James McMahon\, Josh Glass and Danny Bensley. \nTickets $15 at the door (eftpos accepted)
URL:https://comedyact.com.au/event/tim-noon-presents-competitive-guess-who/
LOCATION:The Front Cafe and Gallery\, 2 Wattle Street\, Lyneham\, ACT\, 2602\, Australia
END:VEVENT
BEGIN:VEVENT
DTSTART;TZID=Australia/Sydney:20151023T063000
DTEND;TZID=Australia/Sydney:20151023T083000
DTSTAMP:20260421T151703
CREATED:20150920T003831Z
LAST-MODIFIED:20150920T003831Z
UID:584-1445581800-1445589000@comedyact.com.au
SUMMARY:Short Fast & Funny
DESCRIPTION:Canberra comedians bringing their best 3 minutes! \nThis show will be filmed and recorded by CIT Media and Sound Production students. \nThis show may contain adult themes and coarse language. Mature audience members only. Licensed venue.\n\nCOST:\n$10 (plus $0.30 booking fee) General Admission\n$5 (plus $0.30 booking fee) Concession for students\, pensioners and CIT Staff \nPLEASE NOTE: Online sales close at 7:00pm on the day of the show. \nCLICK HERE TO BOOK ONLINE
URL:https://comedyact.com.au/event/short-fast-funny/
LOCATION:CIT Music Industry Centre Venue\, 160 Ainsworth Street\, Phillip\, ACT\, 2606\, Australia
END:VEVENT
BEGIN:VEVENT
DTSTART;TZID=Australia/Sydney:20151015T200000
DTEND;TZID=Australia/Sydney:20151015T220000
DTSTAMP:20260421T151703
CREATED:20150920T102517Z
LAST-MODIFIED:20150920T151946Z
UID:636-1444939200-1444946400@comedyact.com.au
SUMMARY:LolPol with Tony Bradford
DESCRIPTION:Tony Bradford’s meandering through life have seen him live in various parts of west and Central Europe and Africa\, where he has performed stand-up comedy to often bemused locals. Now it’s Canberra’s turn. Tony’s musings on the life of an Englishman in Canberra\, his extremely belated fatherdom and the origins of wagyu beef have been known to raise a laugh\, even from people who are not his close relations. \nSupported by local time weavers: Ian Worst and Simon Bower
URL:https://comedyact.com.au/event/lolpol-with-tony-bradford/
LOCATION:Polit Bar\, 8 on Franklin Street\, Manuka\, ACT\, Australia
END:VEVENT
BEGIN:VEVENT
DTSTART;TZID=Australia/Sydney:20151013T200000
DTEND;TZID=Australia/Sydney:20151013T220000
DTSTAMP:20260421T151703
CREATED:20151009T111531Z
LAST-MODIFIED:20151009T111531Z
UID:921-1444766400-1444773600@comedyact.com.au
SUMMARY:Open Mic @ the Front
DESCRIPTION:Want to try your hand/mouth at stand up comedy? Come along to the Front and witness Canberra’s longest running open mic in action. First timers and seasoned professionals mix and mingle while bringing the house down.  \nSpeak to the MC to secure your spot. \n7:30 sign up\, first come best dressed.
URL:https://comedyact.com.au/event/open-mic-the-front/
LOCATION:The Front Cafe and Gallery\, 2 Wattle Street\, Lyneham\, ACT\, 2602\, Australia
END:VEVENT
BEGIN:VEVENT
DTSTART;TZID=Australia/Sydney:20151011T070000
DTEND;TZID=Australia/Sydney:20151011T090000
DTSTAMP:20260421T151703
CREATED:20150920T062823Z
LAST-MODIFIED:20150920T063103Z
UID:599-1444546800-1444554000@comedyact.com.au
SUMMARY:Bunker Comedy presents Sparrow-Folk
DESCRIPTION:Australia’s “sirens of satire” Sparrow-Folk are back from their sell-out season at Edinburgh Fringe and bringing a brand new batch of  hysterical songs to Bunker Comedy on 12 October. The gut-bustlingly hilarious duo are Kath & Kim on citric acid. Don’t be deceived by their tantalising harmonies – this deceivingly sweet pair are jaw-droppingly naughty and terrifyingly sexy… it’s ‘I Love Lucy’ meets ‘Sex in The City.’
URL:https://comedyact.com.au/event/bunker-comedy-presents-sparrow-folk/
LOCATION:Ginninderra Labor Club\, 21 Charnwood Pl\, Charnwood\, ACT\, 2615\, Australia
END:VEVENT
BEGIN:VEVENT
DTSTART;TZID=Australia/Sydney:20151008T070000
DTEND;TZID=Australia/Sydney:20151008T090000
DTSTAMP:20260421T151703
CREATED:20150918T162703Z
LAST-MODIFIED:20151006T031942Z
UID:511-1444287600-1444294800@comedyact.com.au
SUMMARY:Comedy Club at The Civic Pub featuring Chris Ryan - SOLD OUT
DESCRIPTION:Chris Ryan is quirky\, neurotic and riddled with self-doubt – making her one of life’s battlers and one of the funniest comedians to hit the scene in the last few years. Her self-deprecation and wry humour has seen her become an instant hit with comedy crowds\, winning her the Raw Comedy ACT crown with her first performance. Since then she has supported top Australian acts including Akmal\, Luke Heggie\,  Sammy J & Randy and the Doug Anthony All Stars. Chris has performed in two sell-out shows at the Canberra Comedy Festival and at the Melbourne International Comedy Festival. \nWith supports. \n  \nTHIS EVENT IS SOLD OUT
URL:https://comedyact.com.au/event/comedy-club-at-the-civic-pub-featuring-chris-ryan/
LOCATION:The Civic Pub\, Civic Pub\, 8 Lonsdale Street\, Braddon\, ACT\, 2612\, Australia
END:VEVENT
BEGIN:VEVENT
DTSTART;TZID=Australia/Sydney:20151002T200000
DTEND;TZID=Australia/Sydney:20151002T220000
DTSTAMP:20260421T151703
CREATED:20150920T062031Z
LAST-MODIFIED:20150920T062031Z
UID:597-1443816000-1443823200@comedyact.com.au
SUMMARY:Uni Pub Comedy featuring Michael Connell
DESCRIPTION:Michael Connell began getting laughs at the age of three in his back yard with the Hills Hoist acting as stage and curtain\, and he hasn’t stopped performing since. \nMichael has won several comedy competitions such as the TREV Campus Comedy Competition\, (an annual event which searches for the funniest university student)\, and the Melbourne Comedy Festival’s Class Clowns Competition (in which he won second place at the national grand final) and was a Grand Finalist in Green Faces. \nA veteran of 6 Melbourne Comedy Festival shows\, Michael is bringing his Comedy to the Uni Pub October 2nd. \nTickets: $20 (plus $0.30 booking fee) pre-booked\, or $22 at the door if still available. \nPLEASE NOTE: Online sales close at 7pm on the day of the show. \nBook tickets here
URL:https://comedyact.com.au/event/uni-pub-comedy-featuring-michael-connell/
LOCATION:Uni Pub\, 17 London Circuit\, Canberra\, 2600\, Australia
END:VEVENT
END:VCALENDAR