BEGIN:VCALENDAR
VERSION:2.0
PRODID:-//Comedy ACT - ECPv6.15.11//NONSGML v1.0//EN
CALSCALE:GREGORIAN
METHOD:PUBLISH
X-ORIGINAL-URL:https://comedyact.com.au
X-WR-CALDESC:Events for Comedy ACT
REFRESH-INTERVAL;VALUE=DURATION:PT1H
X-Robots-Tag:noindex
X-PUBLISHED-TTL:PT1H
BEGIN:VTIMEZONE
TZID:Australia/Sydney
BEGIN:STANDARD
TZOFFSETFROM:+1100
TZOFFSETTO:+1000
TZNAME:AEST
DTSTART:20240406T160000
END:STANDARD
BEGIN:DAYLIGHT
TZOFFSETFROM:+1000
TZOFFSETTO:+1100
TZNAME:AEDT
DTSTART:20241005T160000
END:DAYLIGHT
BEGIN:STANDARD
TZOFFSETFROM:+1100
TZOFFSETTO:+1000
TZNAME:AEST
DTSTART:20250405T160000
END:STANDARD
BEGIN:DAYLIGHT
TZOFFSETFROM:+1000
TZOFFSETTO:+1100
TZNAME:AEDT
DTSTART:20251004T160000
END:DAYLIGHT
BEGIN:STANDARD
TZOFFSETFROM:+1100
TZOFFSETTO:+1000
TZNAME:AEST
DTSTART:20260404T160000
END:STANDARD
BEGIN:DAYLIGHT
TZOFFSETFROM:+1000
TZOFFSETTO:+1100
TZNAME:AEDT
DTSTART:20261003T160000
END:DAYLIGHT
END:VTIMEZONE
BEGIN:VEVENT
DTSTART;TZID=Australia/Sydney:20251210T193000
DTEND;TZID=Australia/Sydney:20251210T213000
DTSTAMP:20260421T033900
CREATED:20251110T092503Z
LAST-MODIFIED:20251110T092503Z
UID:5726-1765395000-1765402200@comedyact.com.au
SUMMARY:Gang Gang Comedy - End of Year Showcase
DESCRIPTION:Come celebrate another massive year of laughs at Gang Gang Comedy’s End of 2025 Showcase. We’ve got the best comedians Canberra can offer this month in a mammoth show\, featuring Sarah Ison\, Laura Johnston\, Jacqui Richards\, Anneli Cole\, Caitlin Maggs\, Chris Marlton\, Felix McCarthy\, Nick Starkey\, Greg Kimball\, Dylan Holmes\, Trish Hurley and Carlo Ritchie! Your MC is Canberra’s own comedy star Tom Gibson. \nDoors at 7pm for a 7:30pm show start. \nTix $20 online at Humanitix\, $25 at the door.
URL:https://comedyact.com.au/event/gang-gang-comedy-end-of-year-showcase/
LOCATION:Gang Gang\, Frencham Place - Downer Shops\, Downer\, ACT\, Australia
CATEGORIES:GangGang,Ticketed
ATTACH;FMTTYPE=image/png:https://comedyact.com.au/wp-content/uploads/2025/11/December-2025-Gibson-Showcase-banner.png
ORGANIZER;CN="Chris Marlton":MAILTO:Chrismarltoncomedy@gmail.com
END:VEVENT
BEGIN:VEVENT
DTSTART;TZID=Australia/Sydney:20251217T190000
DTEND;TZID=Australia/Sydney:20251217T210000
DTSTAMP:20260421T033900
CREATED:20250922T062047Z
LAST-MODIFIED:20250922T062047Z
UID:5700-1765998000-1766005200@comedyact.com.au
SUMMARY:Canberra Comedy Club Christmas Special 2025
DESCRIPTION:It’s time for some Christmas merriment\, with the Canberra Comedy Club Christmas Special! \nWe have the 12 comics of Christmas for you\, with short sets from some of our favourite local region acts. \nA great way to wrap up the year with some laughs. \nIf you’re interesting in booking for a group for a Christmas party then get in touch as we might be able to help you arrange a great package including food\, drinks and laughs. \nDate: Wednesday 17 December 2025\nTime: 7pm\nDuration: Approx 2 hours including interval \nVenue: Fun Time Pony\, 122 Alinga Street\, Civic\nCost: $30 inc Booking Fee
URL:https://comedyact.com.au/event/canberra-comedy-club-christmas-special-2025/
LOCATION:Fun Time Pony\, 122 Alinga St\, Canberra City\, ACT\, 2600\, Australia
CATEGORIES:CanberraComedyClub,Feature,Ticketed
ATTACH;FMTTYPE=image/jpeg:https://comedyact.com.au/wp-content/uploads/2025/09/1920x1080_ComedyClub-20251217.jpg
END:VEVENT
END:VCALENDAR