BEGIN:VCALENDAR
VERSION:2.0
PRODID:-//Comedy ACT - ECPv6.15.11//NONSGML v1.0//EN
CALSCALE:GREGORIAN
METHOD:PUBLISH
X-ORIGINAL-URL:https://comedyact.com.au
X-WR-CALDESC:Events for Comedy ACT
REFRESH-INTERVAL;VALUE=DURATION:PT1H
X-Robots-Tag:noindex
X-PUBLISHED-TTL:PT1H
BEGIN:VTIMEZONE
TZID:Australia/Sydney
BEGIN:STANDARD
TZOFFSETFROM:+1100
TZOFFSETTO:+1000
TZNAME:AEST
DTSTART:20240406T160000
END:STANDARD
BEGIN:DAYLIGHT
TZOFFSETFROM:+1000
TZOFFSETTO:+1100
TZNAME:AEDT
DTSTART:20241005T160000
END:DAYLIGHT
BEGIN:STANDARD
TZOFFSETFROM:+1100
TZOFFSETTO:+1000
TZNAME:AEST
DTSTART:20250405T160000
END:STANDARD
BEGIN:DAYLIGHT
TZOFFSETFROM:+1000
TZOFFSETTO:+1100
TZNAME:AEDT
DTSTART:20251004T160000
END:DAYLIGHT
BEGIN:STANDARD
TZOFFSETFROM:+1100
TZOFFSETTO:+1000
TZNAME:AEST
DTSTART:20260404T160000
END:STANDARD
BEGIN:DAYLIGHT
TZOFFSETFROM:+1000
TZOFFSETTO:+1100
TZNAME:AEDT
DTSTART:20261003T160000
END:DAYLIGHT
END:VTIMEZONE
BEGIN:VEVENT
DTSTART;TZID=Australia/Sydney:20251112T190000
DTEND;TZID=Australia/Sydney:20251112T213000
DTSTAMP:20260421T052424
CREATED:20251017T135533Z
LAST-MODIFIED:20251019T141556Z
UID:5706-1762974000-1762983000@comedyact.com.au
SUMMARY:Gang Gang Comedy - Laura Davis
DESCRIPTION:This month you’re in for a treat with the award winning and profound Laura Davis. Local supports will be RAW Comedy National finalist Suma Iyer\, the hilarious Cameron Ribbons\, force of nature Carlo Ritchie and the always funny Chris Ryan. Running the evening will be your endlessly silly MC Chris Marlton. \nLaura Davis is an award-winning\, critically acclaimed Australian\, UK-based comedian\, who has garnered a reputation as fearless\, honest and razor sharp. They’re a hugely distinctive and highly respected artist who tackles dark\, difficult subjects with intelligence\, raw vulnerability and biting wit. Since making their name as a national finalist in the Melbourne International Comedy Festival RAW competition\, Davis has delivered multiple critically acclaimed stand up shows. \nLaura’s 2022 show If This Is It and 2023 show Well Don’t Just Stand There Dancing both received a nomination for the Most Outstanding Show at MICF. Laura has regularly performed at the Edinburgh Fringe Festival where their shows have received huge critical acclaim. \nThe Scotsman lauded Davis’\, “considerable elan\, making series points with wonderfully silly flourishes.” \nThe List praised Davis’ ability to have “the audience firmly in their palm\, refusing to hold back.”  \nTime Out stated: “Every – EVERY – word is vigorously crafted…this is laughter that takes power away from the darkness…Laura Davis is IT and more” \nChortle called them “inspired…sends you out into the street with your head spinning”. \nThe Guardian identified how: “Davis’ shows are frequently existential – dealing with deep-seated and complex fears about the way society is functioning. They are also very\, very funny.” \nDoors at 7pm for a 7:30pm show start. \nTix $20 online via Humanitix\, $25 at the door. \nBOOK NOW: \nhttps://events.humanitix.com/gang-gang-comedy-laura-davis \n 
URL:https://comedyact.com.au/event/gang-gang-comedy-laura-davis/
LOCATION:Gang Gang\, Frencham Place - Downer Shops\, Downer\, ACT\, Australia
CATEGORIES:GangGang,Ticketed
ATTACH;FMTTYPE=image/png:https://comedyact.com.au/wp-content/uploads/2025/10/November-2025-Laura-Davis-banner-1.png
ORGANIZER;CN="Chris Marlton":MAILTO:Chrismarltoncomedy@gmail.com
END:VEVENT
BEGIN:VEVENT
DTSTART;TZID=Australia/Sydney:20251114T193000
DTEND;TZID=Australia/Sydney:20251114T203000
DTSTAMP:20260421T052424
CREATED:20250708T114941Z
LAST-MODIFIED:20250813T040638Z
UID:5560-1763148600-1763152200@comedyact.com.au
SUMMARY:Anthony Locascio - Greek Italian Australian Comedian
DESCRIPTION:Anthony Locascio returns to Canberra with his sharp\, acclaimed stand-up hour Greek Italian Australian Comedian\, following a sold-out Enmore Theatre and an international tour across the US\, UK\, and Canada. \nA rising force in Australian comedy\, Locascio dissects life at the intersection of three cultures with honesty\, precision\, and just the right amount of chaos. This is a show about identity\, tradition\, modern masculinity\, family pressure\, and what happens when you’re too white for your cousins but too ethnic for everyone else. \nSeen on SBS\, Sunrise\, and stages across the world\, this is your chance to catch one of Australia’s most original comedic voices live\, and on home soil. \nDate: Friday 14 November\nTime: 7:30pm\nDuration: 60 mins (no interval) \nVenue: Fun Time Pony\, 122 Alinga Street\, Civic\nCost: $35
URL:https://comedyact.com.au/event/anthony-locascio-greek-italian-australian-comedian/
LOCATION:Fun Time Pony\, 122 Alinga St\, Canberra City\, ACT\, 2600\, Australia
CATEGORIES:Feature,Hour Show,Ticketed
ATTACH;FMTTYPE=image/jpeg:https://comedyact.com.au/wp-content/uploads/2025/07/CanberraCover.jpg
END:VEVENT
END:VCALENDAR