BEGIN:VCALENDAR
VERSION:2.0
PRODID:-//Comedy ACT - ECPv6.15.11//NONSGML v1.0//EN
CALSCALE:GREGORIAN
METHOD:PUBLISH
X-WR-CALNAME:Comedy ACT
X-ORIGINAL-URL:https://comedyact.com.au
X-WR-CALDESC:Events for Comedy ACT
REFRESH-INTERVAL;VALUE=DURATION:PT1H
X-Robots-Tag:noindex
X-PUBLISHED-TTL:PT1H
BEGIN:VTIMEZONE
TZID:Australia/Sydney
BEGIN:STANDARD
TZOFFSETFROM:+1100
TZOFFSETTO:+1000
TZNAME:AEST
DTSTART:20240406T160000
END:STANDARD
BEGIN:DAYLIGHT
TZOFFSETFROM:+1000
TZOFFSETTO:+1100
TZNAME:AEDT
DTSTART:20241005T160000
END:DAYLIGHT
BEGIN:STANDARD
TZOFFSETFROM:+1100
TZOFFSETTO:+1000
TZNAME:AEST
DTSTART:20250405T160000
END:STANDARD
BEGIN:DAYLIGHT
TZOFFSETFROM:+1000
TZOFFSETTO:+1100
TZNAME:AEDT
DTSTART:20251004T160000
END:DAYLIGHT
BEGIN:STANDARD
TZOFFSETFROM:+1100
TZOFFSETTO:+1000
TZNAME:AEST
DTSTART:20260404T160000
END:STANDARD
BEGIN:DAYLIGHT
TZOFFSETFROM:+1000
TZOFFSETTO:+1100
TZNAME:AEDT
DTSTART:20261003T160000
END:DAYLIGHT
END:VTIMEZONE
BEGIN:VEVENT
DTSTART;TZID=Australia/Sydney:20251001T190000
DTEND;TZID=Australia/Sydney:20251001T210000
DTSTAMP:20260421T065719
CREATED:20250815T201743Z
LAST-MODIFIED:20250815T202021Z
UID:5569-1759345200-1759352400@comedyact.com.au
SUMMARY:Canberra Comedy Club October 2025
DESCRIPTION:Canberra Comedy Club features Hamish Hudson back for a rare headline set\, along with Tom Gibson as MC\, and a great host of support acts including Jacqui Richards\, Billie Miles\, Cameron Ribbons and Jack Curtin. \nHamish Hudson is one of the country’s top musical comedians\, with the ability to take you on a delightful journey from world class song writing to the cheekier-side of profanities. \nHamish’s music is clever\, simple\, poignant and everything non-pc\, leaving audiences wanting more and singing his ridiculously ear worming lyrics for days. \nAugust and September both sold out in advance\, so buy early so you don’t miss out\, we expect this one to sell out as well. \nDate: Wednesday 3 October 2025\nTime: 7pm\nDuration: Approx 2 hours including interval \nVenue: Fun Time Pony\, 122 Alinga Street\, Civic\nCost: $30 \n 
URL:https://comedyact.com.au/event/canberra-comedy-club-october-2025/
LOCATION:Fun Time Pony\, 122 Alinga St\, Canberra City\, ACT\, 2600\, Australia
CATEGORIES:CanberraComedyClub,Feature,Ticketed
ATTACH;FMTTYPE=image/jpeg:https://comedyact.com.au/wp-content/uploads/2025/08/1920x1080_ComedyClub-20251001.jpg
END:VEVENT
END:VCALENDAR