BEGIN:VCALENDAR
VERSION:2.0
PRODID:-//Comedy ACT - ECPv6.15.11//NONSGML v1.0//EN
CALSCALE:GREGORIAN
METHOD:PUBLISH
X-WR-CALNAME:Comedy ACT
X-ORIGINAL-URL:https://comedyact.com.au
X-WR-CALDESC:Events for Comedy ACT
REFRESH-INTERVAL;VALUE=DURATION:PT1H
X-Robots-Tag:noindex
X-PUBLISHED-TTL:PT1H
BEGIN:VTIMEZONE
TZID:Australia/Sydney
BEGIN:STANDARD
TZOFFSETFROM:+1100
TZOFFSETTO:+1000
TZNAME:AEST
DTSTART:20240406T160000
END:STANDARD
BEGIN:DAYLIGHT
TZOFFSETFROM:+1000
TZOFFSETTO:+1100
TZNAME:AEDT
DTSTART:20241005T160000
END:DAYLIGHT
BEGIN:STANDARD
TZOFFSETFROM:+1100
TZOFFSETTO:+1000
TZNAME:AEST
DTSTART:20250405T160000
END:STANDARD
BEGIN:DAYLIGHT
TZOFFSETFROM:+1000
TZOFFSETTO:+1100
TZNAME:AEDT
DTSTART:20251004T160000
END:DAYLIGHT
BEGIN:STANDARD
TZOFFSETFROM:+1100
TZOFFSETTO:+1000
TZNAME:AEST
DTSTART:20260404T160000
END:STANDARD
BEGIN:DAYLIGHT
TZOFFSETFROM:+1000
TZOFFSETTO:+1100
TZNAME:AEDT
DTSTART:20261003T160000
END:DAYLIGHT
END:VTIMEZONE
BEGIN:VEVENT
DTSTART;TZID=Australia/Sydney:20250604T190000
DTEND;TZID=Australia/Sydney:20250604T210000
DTSTAMP:20260421T134342
CREATED:20250510T225719Z
LAST-MODIFIED:20250510T225851Z
UID:5488-1749063600-1749070800@comedyact.com.au
SUMMARY:Canberra Comedy Club June 2025
DESCRIPTION:Canberra Comedy Club for June features Brisbane-based headliner Peter James and MC Shad Wicka\, along with local legends Jacqui Richards\, Suma Iyer\, Charlie Vandenberg and Chris Marlton. \nA rising star out of Brisbane\, Peter James is quickly making a name for himself on the Australian comedy circuit. He has performed multiple sell-out shows to audiences across the sunshine state\, as well as at the Adelaide Fringe\, Perth Fringeworld\, Brisbane Comedy and Melbourne International Comedy Festivals\, where he garnered four and five-star reviews. \nA favourite of Queensland comedy\, Shad Wicka is becoming a regular face in comedy circles after departing Cairns and is now thriving in the Brisbane comedy scene. Since being kicked off commercial radio\, Wicka has become a class storyteller with jokes to match. Shad brings a down-to-earth looseness to the stage that has made him one of the most in-demand hosts in Brisbane and beyond. \nDate: Wednesday 4 June 2025\nTime: 7:00pm to 9:00pm (including interval)\nVenue: Fun Time Pony\, 122 Alinga Street\, Canberra \n \n\n  \n 
URL:https://comedyact.com.au/event/canberra-comedy-club-june-2025/
LOCATION:Fun Time Pony\, 122 Alinga St\, Canberra City\, ACT\, 2600\, Australia
CATEGORIES:CanberraComedyClub,Feature,Ticketed
ATTACH;FMTTYPE=image/jpeg:https://comedyact.com.au/wp-content/uploads/2025/05/1920x1080_ComedyClub-20250604.jpg
END:VEVENT
END:VCALENDAR