BEGIN:VCALENDAR
VERSION:2.0
PRODID:-//Comedy ACT - ECPv6.15.11//NONSGML v1.0//EN
CALSCALE:GREGORIAN
METHOD:PUBLISH
X-ORIGINAL-URL:https://comedyact.com.au
X-WR-CALDESC:Events for Comedy ACT
REFRESH-INTERVAL;VALUE=DURATION:PT1H
X-Robots-Tag:noindex
X-PUBLISHED-TTL:PT1H
BEGIN:VTIMEZONE
TZID:Australia/Sydney
BEGIN:STANDARD
TZOFFSETFROM:+1100
TZOFFSETTO:+1000
TZNAME:AEST
DTSTART:20230401T160000
END:STANDARD
BEGIN:DAYLIGHT
TZOFFSETFROM:+1000
TZOFFSETTO:+1100
TZNAME:AEDT
DTSTART:20230930T160000
END:DAYLIGHT
BEGIN:STANDARD
TZOFFSETFROM:+1100
TZOFFSETTO:+1000
TZNAME:AEST
DTSTART:20240406T160000
END:STANDARD
BEGIN:DAYLIGHT
TZOFFSETFROM:+1000
TZOFFSETTO:+1100
TZNAME:AEDT
DTSTART:20241005T160000
END:DAYLIGHT
BEGIN:STANDARD
TZOFFSETFROM:+1100
TZOFFSETTO:+1000
TZNAME:AEST
DTSTART:20250405T160000
END:STANDARD
BEGIN:DAYLIGHT
TZOFFSETFROM:+1000
TZOFFSETTO:+1100
TZNAME:AEDT
DTSTART:20251004T160000
END:DAYLIGHT
END:VTIMEZONE
BEGIN:VEVENT
DTSTART;TZID=Australia/Sydney:20241002T193000
DTEND;TZID=Australia/Sydney:20241002T213000
DTSTAMP:20260423T225337
CREATED:20240822T213402Z
LAST-MODIFIED:20240930T100238Z
UID:5305-1727897400-1727904600@comedyact.com.au
SUMMARY:Canberra Comedy Club featuring Lizzy Hoo - SOLD OUT
DESCRIPTION:SOLD OUT \nOctober Comedy Club sees Lizzy Hoo headline\, with Carlo Ritchie MCing and supporting sets from 2024 RAW RAW Finalist Suma Iyer\, Felix McCarthy and Caitlin Maggs. \nPlaying to sold out crowds across the country\, Lizzy Hoo’s mix of stand up and storytelling is earnest\, dry\, sometimes a little dark\, and guaranteed to leave you in stitches. Lizzy recently hosted the Melbourne International Comedy Festival Gala\, and regularly appears on tellies across the country via Have You Been Paying Attention\, The Cheap Seats\, Question Everything\, The Cook Up with Adam Liaw and Monday’s Experts. \n“Lizzy Hoo reliably delivers spicy jokes and fresh\, guffaw-inducing hot takes with her signature smirk.” ★★★★ Time Out\, 2024 \n“Lizzy exudes her signature down-to-earth charm and infectious energy.” ★★★★★ Louder\, 2024 \nVenue: Fun Time Pony – 122 Alinga St Canberra City\nWhen: Wednesday 2 October – 7:30pm (doors open 7pm) to 9:30pm\nTickets: $30 – SOLD OUT
URL:https://comedyact.com.au/event/canberra-comedy-club-featuring-lizzy-hoo/
LOCATION:Fun Time Pony\, 122 Alinga St\, Canberra City\, ACT\, 2600\, Australia
CATEGORIES:CanberraComedyClub,Feature,Ticketed
ATTACH;FMTTYPE=image/jpeg:https://comedyact.com.au/wp-content/uploads/2024/08/1920x1080_ComedyClub-20241002.jpg
END:VEVENT
BEGIN:VEVENT
DTSTART;TZID=Australia/Sydney:20241008T190000
DTEND;TZID=Australia/Sydney:20241008T210000
DTSTAMP:20260423T225337
CREATED:20240811T113839Z
LAST-MODIFIED:20240901T205838Z
UID:5297-1728414000-1728421200@comedyact.com.au
SUMMARY:Damian Callinan - Double Feature
DESCRIPTION:The surprise discovery of his mother’s 1946 diary leads 3 time MICF Most Outstanding Show nominee\, Damian Callinan\, on a cinematic\, romantic romp through post-war Australia. The creator & star of the hit film The Merger\, uses his powerful gift for storytelling in a funny and poignant double feature of love & loss. \n‘Sublime\, heart-warming\, hilarious. A Triumph!’ – Sammy J (ABC) \n‘A storyteller at the top of his game. Such dextrous movement between the funny\, the sad and the beautiful.’’ – Rob Carlton [actor\, film maker\, storyteller] \n‘Utterly brilliant. What a work of gorgeous humanity. I needed that. The world needs that. I’m awestruck.’’ – Kate Mulvany [actor\, playwright] \nDouble Feature will have supporting sets from Tanya Losanno and Tom Gibson. \nVenue: Fun Time Pony – 122 Alinga St\, Canberra City\nWhen: Tuesday 8 October – 7:00pm (show with supports – approx 105 mins duration including interval)\nTickets: Full $30.00\, Concession $20 – plus $0.50 ticketing fee
URL:https://comedyact.com.au/event/damian-callinan-double-feature/
LOCATION:Fun Time Pony\, 122 Alinga St\, Canberra City\, ACT\, 2600\, Australia
CATEGORIES:Feature,Ticketed
ATTACH;FMTTYPE=image/jpeg:https://comedyact.com.au/wp-content/uploads/2024/08/Double-Feature-TD-1920x1080-1.jpg
END:VEVENT
BEGIN:VEVENT
DTSTART;TZID=Australia/Sydney:20241010T190000
DTEND;TZID=Australia/Sydney:20241010T200000
DTSTAMP:20260423T225337
CREATED:20240902T000046Z
LAST-MODIFIED:20240902T011305Z
UID:5352-1728586800-1728590400@comedyact.com.au
SUMMARY:Laura Johnston - That's...Brave (Edinburgh Fringe Edition)
DESCRIPTION:In March of 2024 Laura Johnston sold out her first solo show twice at the Canberra Comedy Festival. In August of 2024 she took that show to the largest arts festival in the world\, the Edinburgh Fringe Festival. If you missed her show in the Canberra Comedy Festival\, this is your second chance! If you managed to catch her show\, this is your chance to see what a month at Fringe does to a girl and her show. \nThat’s…Brave (Edinburgh Fringe Edition) is Laura Johnston’s debut show “That’s…Brave” from the Canberra Comedy Festival plus improvements from her time performing it in the Edinburgh Fringe Festival.  \nAdam Bloom: Laura is “extremely talented and ridiculously loveable”  \nAudience review: “Mixing killer vocals with hilarious segways\, and an impeccable sense of timing“ \nPresented by Comedy ACT as part of LOL Season. \nVenue: Courtyard Studio\, Canberra Theatre Centre\nWhen: Thursday 10 October\, 7:00pm (60 mins duration)\nTickets: $25 full\, $22 Concession\nPurchase tickets for any of the LOL Season shows at:\nhttps://canberratheatrecentre.n.qtix.com.au/tickets/plans/CTCLOLSEASON \n*A Transaction fee of $5.95 applies\, but you only pay one transaction fee no matter how many tickets to LOL Season shows you purchase when booking from the LOL Season page\, which lets you put tickets to multiple performances together in your basket to purchase quickly and easily!\nSimply follow the above link\, and use the scroll bar to explore all SIX fantastic comedy shows on offer. Select the performances (from one\, to all SIX!) that will make up your LOL Season\, then head to the checkout to finalise your ticket purchase. \n 
URL:https://comedyact.com.au/event/laura-johnston-thats-brave-edinburgh-fringe-edition/
LOCATION:Canberra Theatre Centre\, Civic Square\, London Circuit\, Canberra\, ACT\, 2600\, Australia
CATEGORIES:Feature,FestivalShow,Ticketed
ATTACH;FMTTYPE=image/png:https://comedyact.com.au/wp-content/uploads/2024/09/ThatsBrave_Signage_1920x1080.png
END:VEVENT
BEGIN:VEVENT
DTSTART;TZID=Australia/Sydney:20241010T203000
DTEND;TZID=Australia/Sydney:20241010T213000
DTSTAMP:20260423T225337
CREATED:20240902T000043Z
LAST-MODIFIED:20240902T011305Z
UID:5357-1728592200-1728595800@comedyact.com.au
SUMMARY:Maddy Weeks - Never Gonna Die
DESCRIPTION:Are you bloody sick of it? \nDo your knees hurt? \nIs your back all messed up? \nThis show will cure everything that is wrong with you! \nWith one simple payment of $22-$25 you can become immortal and never experience a bad emotion ever again.* \nJoin award-winning comedian and aspiring cult leader Maddy Weeks in their hilarious and heartfelt solo hour. They’ll take you on a wild ride through their life. From their best jokes to their secret to eternal life\, Maddy will reveal all in this high-energy show that will leave you feeling unstoppable. \n*Not legally\, medically or personally binding. \nAbout Maddy Weeks \nMaddy Weeks is an award-winning comedian and a 2024 Melbourne International Comedy Festival Best Newcomer nominee based in Naarm\, Melbourne. Described by the ABC as having ‘bucketloads of joy and energy on stage’\, Maddy is quickly becoming one of the most captivating acts on the Australian stand-up scene. \nPresented by Comedy ACT as part of LOL Season. \nVenue: Courtyard Studio\, Canberra Theatre Centre\nWhen: Thursday 10 October\, 8:30pm (60 mins duration)\nTickets: $25 full\, $22 Concession\nPurchase tickets for any of the LOL Season shows at:\nhttps://canberratheatrecentre.n.qtix.com.au/tickets/plans/CTCLOLSEASON \n*A Transaction fee of $5.95 applies\, but you only pay one transaction fee no matter how many tickets to LOL Season shows you purchase when booking from the LOL Season page\, which lets you put tickets to multiple performances together in your basket to purchase quickly and easily!\nSimply follow the above link\, and use the scroll bar to explore all SIX fantastic comedy shows on offer. Select the performances (from one\, to all SIX!) that will make up your LOL Season\, then head to the checkout to finalise your ticket purchase.
URL:https://comedyact.com.au/event/maddy-weeks-never-gonna-die/
LOCATION:Canberra Theatre Centre\, Civic Square\, London Circuit\, Canberra\, ACT\, 2600\, Australia
CATEGORIES:Feature,FestivalShow,Ticketed
ATTACH;FMTTYPE=image/jpeg:https://comedyact.com.au/wp-content/uploads/2024/09/Maddy_Week-With-Title-1920-x-1080.jpg
END:VEVENT
BEGIN:VEVENT
DTSTART;TZID=Australia/Sydney:20241011T183000
DTEND;TZID=Australia/Sydney:20241011T193000
DTSTAMP:20260423T225337
CREATED:20240902T000001Z
LAST-MODIFIED:20240904T201608Z
UID:5362-1728671400-1728675000@comedyact.com.au
SUMMARY:Andrew Hansen - Everyone Else is Wrong
DESCRIPTION:The world is doomed\, right? Wrong. Because the songwriter and star of THE CHASER’S WAR ON EVERYTHING and AUSTRALIAN EPIC is here to solve all its problems – using only a piano\, a guitar\, and an unshakeable conviction that everyone’s going about things the wrong way.  \nAndrew Hansen should know. With iconic TV characters like The Surprise Spruiker and stand-out musical numbers like ‘The Eulogy Song’\, he has a track record of always being correct about everything.  \nNow he brings you a sizzling new slate of music and sketches about how things ought to be done. Because just like you\, Andrew Hansen knows EVERYONE ELSE IS WRONG.  \n“Audacious comedy\, blistering satire\, 5 stars.” – Scenestr \nPresented by Comedy ACT as part of LOL Season. \nVenue: Courtyard Studio\, Canberra Theatre Centre\nWhen: Friday 11 October\, 6:30pm (60 mins duration)\nTickets: $35*\nPurchase tickets for any of the LOL Season shows at:\nhttps://canberratheatrecentre.n.qtix.com.au/tickets/plans/CTCLOLSEASON \n\n\n\n*A Transaction fee of $5.95 applies\, but you only pay one transaction fee no matter how many tickets to LOL Season shows you purchase when booking from the LOL Season page\, which lets you put tickets to multiple performances together in your basket to purchase quickly and easily!\nSimply follow the above link\, and use the scroll bar to explore all SIX fantastic comedy shows on offer. Select the performances (from one\, to all SIX!) that will make up your LOL Season\, then head to the checkout to finalise your ticket purchase.
URL:https://comedyact.com.au/event/andrew-hansen-everyone-else-is-wrong/
LOCATION:Canberra Theatre Centre\, Civic Square\, London Circuit\, Canberra\, ACT\, 2600\, Australia
CATEGORIES:Feature,FestivalShow,Ticketed
ATTACH;FMTTYPE=image/jpeg:https://comedyact.com.au/wp-content/uploads/2024/09/EVER_CANB_1920x1080.jpg
END:VEVENT
BEGIN:VEVENT
DTSTART;TZID=Australia/Sydney:20241011T200000
DTEND;TZID=Australia/Sydney:20241011T210000
DTSTAMP:20260423T225337
CREATED:20240902T000045Z
LAST-MODIFIED:20240902T011305Z
UID:5367-1728676800-1728680400@comedyact.com.au
SUMMARY:An Intimate Evening with Tabitha Booth\, starring Frankie McNair
DESCRIPTION:Best Newcomer 2022 Melbourne International Comedy Festival \nRing ring! Who’s that? Hollywood? Tell them I’m busy! Ha! \nLiza fears her. Streisand wants to be her. Judy Garland circa 1950 lusts for her. Get ready for Tabitha Booth! \nAfter a mystery hiatus and a lot of credit card debt\, Tabitha Booth returns to the stage for the comeback no-one was expecting… or asked for. \nWitness as she uses her last threads of sanity to share her life’s work. From her breakout role as ‘Long Fork Lady’ to being kneecapped by Marylin Monroe for trying to harmonise ‘Happy Birthday’\, it’s a night of all the classic stories and off-off-off Broadway hits you’ve never heard and love. \nHeavily medicated lounge singer Tabitha Booth debuts in Canberra for an intimate evening of unhinged comedy like no other. \nStarring comedian Frankie McNair (Thank God You’re Here\, Just For Laughs Sydney TV Gala and Question Everything). \nPresented by Comedy ACT as part of LOL Season. \nVenue: Courtyard Studio\, Canberra Theatre Centre\nWhen: Friday 11 October\, 8:00pm (60 mins duration)\nTickets: $29.95 full\, $26.95 Concession\nPurchase tickets for any of the LOL Season shows at:\nhttps://canberratheatrecentre.n.qtix.com.au/tickets/plans/CTCLOLSEASON \n*A Transaction fee of $5.95 applies\, but you only pay one transaction fee no matter how many tickets to LOL Season shows you purchase when booking from the LOL Season page\, which lets you put tickets to multiple performances together in your basket to purchase quickly and easily! \nSimply follow the above link\, and use the scroll bar to explore all SIX fantastic comedy shows on offer. Select the performances (from one\, to all SIX!) that will make up your LOL Season\, then head to the checkout to finalise your ticket purchase.
URL:https://comedyact.com.au/event/an-intimate-evening-with-tabitha-booth-starring-frankie-mcnair/
LOCATION:Canberra Theatre Centre\, Civic Square\, London Circuit\, Canberra\, ACT\, 2600\, Australia
CATEGORIES:Feature,FestivalShow,Ticketed
ATTACH;FMTTYPE=image/jpeg:https://comedyact.com.au/wp-content/uploads/2024/09/TABI_CANB_1920x1080_DATE.jpg
END:VEVENT
BEGIN:VEVENT
DTSTART;TZID=Australia/Sydney:20241012T170000
DTEND;TZID=Australia/Sydney:20241012T203000
DTSTAMP:20260423T225337
CREATED:20240902T000057Z
LAST-MODIFIED:20240902T011305Z
UID:5371-1728752400-1728765000@comedyact.com.au
SUMMARY:Paul McDermott + 1 present - REDUX
DESCRIPTION:REDUX is a dynamic and awe-inspiring collection of verbal and musical absurdity examining (through comedy\, song\, cruelty and liturgical dance) three major contemporary themes: The fall of Empire (parts 1 & 2)\, the rise of women\, and wanking. Not necessarily in that order. \nControversial\, bleak\, and hilarious – Join Paul + 1 (Paul Plus One) for a delightfully dark journey towards the light. \nAustralian comedy legend Paul McDermott has been fighting tyranny\, injustice\, and ennui for over 40 years\, armed only with comedy and a pretty voice. \nPaul McDermott Plus One is the brainchild of Australian comedy legend Paul McDermott (Doug Anthony All Stars/Good News Week/THE SIDESHOW/JJJ).  Onstage\, Paul is joined by Glenn Moorhouse\, the “plus one”\, Tasmanian born musical director\, guitarist\, and comrade. The mix of Paul’s angelic choir boy vocals with Glenn’s vitriolic incision creates an unmissable evening of fervour and delight. \n★★★★★ “Naughty fun of the highest calibre” The Clothesline \n‘Laughter is good for the soul and my soul feels really good now.’ GlamAdelaide ★★★★★ \nAdelaide Advertiser ★★★★ ‘McDermott’s sharp songwriting shines in this riotous performance.’ \n‘He’s lost none of his aggressive charm.’ Time Out ★★★★’ \nPlease be advised that filming and audio recording will be taking place at this show. \nPresented by Comedy ACT as part of LOL Season. \nVenue: Courtyard Studio\, Canberra Theatre Centre\nWhen: Saturday 12 October\, 5:00pm and 7:00pm shows (75 mins duration)\nTickets: $35 full\, $30 Concession\nPurchase tickets for any of the LOL Season shows at:\nhttps://canberratheatrecentre.n.qtix.com.au/tickets/plans/CTCLOLSEASON \n*A Transaction fee of $5.95 applies\, but you only pay one transaction fee no matter how many tickets to LOL Season shows you purchase when booking from the LOL Season page\, which lets you put tickets to multiple performances together in your basket to purchase quickly and easily! \nSimply follow the above link\, and use the scroll bar to explore all SIX fantastic comedy shows on offer. Select the performances (from one\, to all SIX!) that will make up your LOL Season\, then head to the checkout to finalise your ticket purchase.
URL:https://comedyact.com.au/event/paul-mcdermott-1-present-redux/
LOCATION:Canberra Theatre Centre\, Civic Square\, London Circuit\, Canberra\, ACT\, 2600\, Australia
CATEGORIES:Feature,FestivalShow,Ticketed
ATTACH;FMTTYPE=image/jpeg:https://comedyact.com.au/wp-content/uploads/2024/09/REDUX-TD-1920x1080-1.jpg
END:VEVENT
BEGIN:VEVENT
DTSTART;TZID=Australia/Sydney:20241012T204500
DTEND;TZID=Australia/Sydney:20241012T214500
DTSTAMP:20260423T225337
CREATED:20240902T000041Z
LAST-MODIFIED:20240902T011304Z
UID:5374-1728765900-1728769500@comedyact.com.au
SUMMARY:Chris Marlton - Eggplants and Cigarettes
DESCRIPTION:Chris Marlton’s delicious new comedy Eggplants and Cigarettes is coming to Canberra for one night only.  \nFly beyond the clouds; travel into the future\, the past and mind-bending present; this is world building at its best. Trust South African rocket scientist Elon Gates as he names baboons\, copyrights vegetables and gets stuck living on a zeppelin. Hack your life with the world’s first 100% optimised human being\, Simon Thröpp with hacks for cooking\, time travel and optimised healthcare! And listen to Gareth Mosley\, the legendary Aussie standup comedian as he gets introspective about MRIs\, Chat GPT and of course\, cigarettes. \nChris Marlton is one of Australia’s leading character comedians. Effortless accents and immersive personalities create hilarious worlds for an unforgettable night of comedy. \n“Out of this world… an amazing talent” ★★★★1⁄2 – Eventalaide \n“A master of the craft” – ★★★★ BMA Magazine \n“A transformative experience” – Theatre Travels \nPlease be advised that filming and audio recording will be taking place at this show. \nPresented by Comedy ACT as part of LOL Season. \nVenue: Courtyard Studio\, Canberra Theatre Centre\nWhen: Saturday 12 October\, 8:45pm (60 mins duration)\nTickets: $25 full\, $22 Concession\nPurchase tickets for any of the LOL Season shows at:\nhttps://canberratheatrecentre.n.qtix.com.au/tickets/plans/CTCLOLSEASON \n*A Transaction fee of $5.95 applies\, but you only pay one transaction fee no matter how many tickets to LOL Season shows you purchase when booking from the LOL Season page\, which lets you put tickets to multiple performances together in your basket to purchase quickly and easily! \nSimply follow the above link\, and use the scroll bar to explore all SIX fantastic comedy shows on offer. Select the performances (from one\, to all SIX!) that will make up your LOL Season\, then head to the checkout to finalise your ticket purchase.
URL:https://comedyact.com.au/event/chris-marlton-eggplants-and-cigarettes/
LOCATION:Canberra Theatre Centre\, Civic Square\, London Circuit\, Canberra\, ACT\, 2600\, Australia
CATEGORIES:Feature,FestivalShow,Ticketed
ATTACH;FMTTYPE=image/png:https://comedyact.com.au/wp-content/uploads/2024/09/1920x1080-EandC-CTC-screens-date.png
END:VEVENT
BEGIN:VEVENT
DTSTART;TZID=Australia/Sydney:20241026T190000
DTEND;TZID=Australia/Sydney:20241026T200000
DTSTAMP:20260423T225337
CREATED:20240708T073630Z
LAST-MODIFIED:20240831T235532Z
UID:5273-1729969200-1729972800@comedyact.com.au
SUMMARY:Luke Heggie - Grogan
DESCRIPTION:These are the tribulations of someone just trying to stay alive until he’s dead\, while attempting to remain a man of the people. The people aren’t really honouring their end of the bargain. Besides nothing\, the crushing majority of people don’t know anything. In fact\, most of them are heading in the right direction for a smack. \nLuke Heggie recently discovered that a slip of the tongue is now more commonly known as “his true colours” and that salted caramel was not just a fad. He’d like for these things to be rectified\, but stopping short of standing in a major intersection waving around a plank with nails sticking out of it\, there is nothing that can be done. This show is not recommended for anyone who was brought up to believe nothing is their fault. Most things are your fault. No lowbreeds please. \n‘Utterly extraordinary… A knock-out.’ ★★★★★ The Age \nVenue: Fun Time Pony – 122 Alinga St\, Canberra City\nWhen: Saturday 26 October – 7:00pm (60 mins duration)\nTickets: $29.50 plus $0.50 ticketing fee
URL:https://comedyact.com.au/event/luke-heggie-grogan/
LOCATION:Fun Time Pony\, 122 Alinga St\, Canberra City\, ACT\, 2600\, Australia
CATEGORIES:Feature,Ticketed
ATTACH;FMTTYPE=image/png:https://comedyact.com.au/wp-content/uploads/2024/07/LH_Canberra_1920x1080_with-text-treatment-1.png
END:VEVENT
END:VCALENDAR