BEGIN:VCALENDAR
VERSION:2.0
PRODID:-//Comedy ACT - ECPv6.15.11//NONSGML v1.0//EN
CALSCALE:GREGORIAN
METHOD:PUBLISH
X-WR-CALNAME:Comedy ACT
X-ORIGINAL-URL:https://comedyact.com.au
X-WR-CALDESC:Events for Comedy ACT
REFRESH-INTERVAL;VALUE=DURATION:PT1H
X-Robots-Tag:noindex
X-PUBLISHED-TTL:PT1H
BEGIN:VTIMEZONE
TZID:Australia/Sydney
BEGIN:STANDARD
TZOFFSETFROM:+1100
TZOFFSETTO:+1000
TZNAME:AEST
DTSTART:20230401T160000
END:STANDARD
BEGIN:DAYLIGHT
TZOFFSETFROM:+1000
TZOFFSETTO:+1100
TZNAME:AEDT
DTSTART:20230930T160000
END:DAYLIGHT
BEGIN:STANDARD
TZOFFSETFROM:+1100
TZOFFSETTO:+1000
TZNAME:AEST
DTSTART:20240406T160000
END:STANDARD
BEGIN:DAYLIGHT
TZOFFSETFROM:+1000
TZOFFSETTO:+1100
TZNAME:AEDT
DTSTART:20241005T160000
END:DAYLIGHT
BEGIN:STANDARD
TZOFFSETFROM:+1100
TZOFFSETTO:+1000
TZNAME:AEST
DTSTART:20250405T160000
END:STANDARD
BEGIN:DAYLIGHT
TZOFFSETFROM:+1000
TZOFFSETTO:+1100
TZNAME:AEDT
DTSTART:20251004T160000
END:DAYLIGHT
END:VTIMEZONE
BEGIN:VEVENT
DTSTART;TZID=Australia/Sydney:20240904T193000
DTEND;TZID=Australia/Sydney:20240904T213000
DTSTAMP:20260424T002944
CREATED:20240804T230818Z
LAST-MODIFIED:20240804T230852Z
UID:5289-1725478200-1725485400@comedyact.com.au
SUMMARY:Canberra Comedy Club featuring The Stevenson Experience
DESCRIPTION:September Comedy Club sees The Stevenson Experience return to Canberra for a special club show headline\, with Dane Simpson MCing and supporting sets from Tom Gibson\, Jelin Palm and more. \nThe Stevenson Experience are Australia’s favourite identical twin musical comedy double act – bringing fast paced hilarious songs and lighting quick banter\, sibling rivalry and stand-up to life on stage. They have sold out live shows from the Melbourne International Comedy Festival all the way to the Edinburgh Festival Fringe and have appeared on ABC TV\, Channel 10 and The Comedy Channel\, and have performed on the Melbourne International Comedy Festival Opening Night All-Stars Supershow and headlined every comedy club in the country. Benjamin Stevenson is also the author of international best seller Everyone In My Family Has Killed Someone\, soon be adapted into a major HBO TV series. \n“Scathingly witty and hilariously riotous\, their songs are side-bustingly funny.” ***** – MELBOURNE ARTS \n“Nothing can prepare you\, an absolute highlight of fringe that had the audience in stitches”  ****1/2 – THE ADVERTISER \n“An absolute stand-out\, one of the best moments of the Festival.” ***** – FOUNTAIN (UK) \n“Hilarious! You will not regret it.”  ****1/2 – HERALD SUN \nVenue: Fun Time Pony – 122 Alinga St Canberra City\nWhen: Wednesday 4 September – 7:30pm (doors open 7pm) to 9:30pm\nTickets: $30
URL:https://comedyact.com.au/event/canberra-comedy-club-featuring-the-stevenson-experience/
LOCATION:Fun Time Pony\, 122 Alinga St\, Canberra City\, ACT\, 2600\, Australia
CATEGORIES:CanberraComedyClub,Feature,Ticketed
ATTACH;FMTTYPE=image/jpeg:https://comedyact.com.au/wp-content/uploads/2024/08/1920x1080_ComedyClub-20240904.jpg
END:VEVENT
BEGIN:VEVENT
DTSTART;TZID=Australia/Sydney:20240914T190000
DTEND;TZID=Australia/Sydney:20240914T200000
DTSTAMP:20260424T002944
CREATED:20240407T013954Z
LAST-MODIFIED:20240813T030647Z
UID:5185-1726340400-1726344000@comedyact.com.au
SUMMARY:Kirsty Webeck - I'll Be The Judge Of That
DESCRIPTION:After selling out both her shows at Canberra Comedy Festival\, we thought we’d better put on an encore performance… \nKirsty would like you to see her new show. It’s got a lot of jokes in it because the genre demands them. She’s recently learned more about her relationship with farmers\, she’s had a harrowing experience with classical music and a special thing happened to her at the airport. There’ll be heaps more things in the show\, too. Including things that will just happen on the night and surprise everyone\, including her. Go on\, treat yourself and grab some tickets. \n“You would need a heart of concrete not to be won over by her sunny affability\, which pours out of her at the same rate as her one-liners\, both on and off the stage.” The Age \n“Consistently enjoyable and impossible to dislike.” Sydney Morning Herald \nVenue: Fun Time Pony – 122 Alinga St\, Canberra City\nWhen: Saturday 14 September – 7:00pm (60 mins duration)\nTickets: $34.50 plus $0.50 ticketing fee
URL:https://comedyact.com.au/event/kirsty-webeck-ill-be-the-judge-of-that/
LOCATION:Fun Time Pony\, 122 Alinga St\, Canberra City\, ACT\, 2600\, Australia
CATEGORIES:Feature,Ticketed
ATTACH;FMTTYPE=image/jpeg:https://comedyact.com.au/wp-content/uploads/2024/04/ILLB_CACF_LandHeroT_1920x1080.jpg
END:VEVENT
END:VCALENDAR