BEGIN:VCALENDAR
VERSION:2.0
PRODID:-//Comedy ACT - ECPv6.15.11//NONSGML v1.0//EN
CALSCALE:GREGORIAN
METHOD:PUBLISH
X-ORIGINAL-URL:https://comedyact.com.au
X-WR-CALDESC:Events for Comedy ACT
REFRESH-INTERVAL;VALUE=DURATION:PT1H
X-Robots-Tag:noindex
X-PUBLISHED-TTL:PT1H
BEGIN:VTIMEZONE
TZID:Australia/Sydney
BEGIN:STANDARD
TZOFFSETFROM:+1100
TZOFFSETTO:+1000
TZNAME:AEST
DTSTART:20230401T160000
END:STANDARD
BEGIN:DAYLIGHT
TZOFFSETFROM:+1000
TZOFFSETTO:+1100
TZNAME:AEDT
DTSTART:20230930T160000
END:DAYLIGHT
BEGIN:STANDARD
TZOFFSETFROM:+1100
TZOFFSETTO:+1000
TZNAME:AEST
DTSTART:20240406T160000
END:STANDARD
BEGIN:DAYLIGHT
TZOFFSETFROM:+1000
TZOFFSETTO:+1100
TZNAME:AEDT
DTSTART:20241005T160000
END:DAYLIGHT
BEGIN:STANDARD
TZOFFSETFROM:+1100
TZOFFSETTO:+1000
TZNAME:AEST
DTSTART:20250405T160000
END:STANDARD
BEGIN:DAYLIGHT
TZOFFSETFROM:+1000
TZOFFSETTO:+1100
TZNAME:AEDT
DTSTART:20251004T160000
END:DAYLIGHT
END:VTIMEZONE
BEGIN:VEVENT
DTSTART;TZID=Australia/Sydney:20240807T193000
DTEND;TZID=Australia/Sydney:20240807T213000
DTSTAMP:20260424T015951
CREATED:20240521T120416Z
LAST-MODIFIED:20240807T035521Z
UID:5246-1723059000-1723066200@comedyact.com.au
SUMMARY:SOLD OUT - Canberra Comedy Club featuring Chris Ryan
DESCRIPTION:For one night only Chris Ryan returns to her hometown of Canberra with a headline set not to miss. A stand up comedian who delivers insight on her life and the people in it in a way that will probably resonate. Chris’ comedy is real and relatable\, delivered in her signature understated\, laconic style. If you’re looking for a song and dance\, some powerpoint slides or physical theatre\, you’re not getting it. She’s performed on TV in the Melbourne International Comedy Festival’s Oxfam Gala (2022) and Opening Night Comedy Allstars Supershow  2023) as well as Just for Laughs Gala in Melbourne (2022). \nChris will appear with MC Tanya Losanno and supports Emo Parsonson\, Roland Bull and Dylan Holmes. \nVenue: Fun Time Pony – 122 Alinga St Canberra City\nWhen: Wednesday 7th of August – 7:30pm (doors open 7pm)\nTickets: $30 \nSOLD OUT\n \n\nHere is a little preview of the Comedy Club down in the Basement at Fun Time Pony \n\nhttps://comedyact.com.au/wp-content/uploads/2024/03/Funtimeponystairwalk.mp4
URL:https://comedyact.com.au/event/canberra-comedy-club-featuring-chris-ryan-2024/
LOCATION:Fun Time Pony\, 122 Alinga St\, Canberra City\, ACT\, 2600\, Australia
CATEGORIES:CanberraComedyClub,Ticketed
ATTACH;FMTTYPE=image/jpeg:https://comedyact.com.au/wp-content/uploads/2024/05/chris-ryan.jpg
END:VEVENT
BEGIN:VEVENT
DTSTART;TZID=Australia/Sydney:20240831T190000
DTEND;TZID=Australia/Sydney:20240831T200000
DTSTAMP:20260424T015951
CREATED:20240714T031021Z
LAST-MODIFIED:20240714T031021Z
UID:5281-1725130800-1725134400@comedyact.com.au
SUMMARY:Dane Simpson - Always Was\, Always Will Be... Funny
DESCRIPTION:Dane comes from a long line of funny buggers. A wise-cracking Dad\, a cleverly cutting Mum\, hilarious grandparents\, and generations of jokers\, pranksters and yarnspinners. Now Dane is here\, putting the ‘Rad’ into ‘traditional’. \nAs seen on Thank God You’re Here\, The Amazing Race Australia: Celebrity Edition and Have You Been Paying Attention? Melbourne International Comedy Festival Gala\, Would I Lie To You\, The Hundred with Andy Lee\, and his Stand Up Comedy special on Paramount Plus… Didgeridoozy! \nWINNER: FRINGE WORLD 2023 Weekly Award \nFor 60\,000 years of laughs\, book now! \n★★★★ Mervyn Stutter’s Pick Of The Fringe\, Edinburgh Fringe 2023 \n“More presence in his pinky finger than most of us could ever dream of” ★★★★½ Sunday Mail\, 2023 \n“Simpson is hilarious” ★★★★ The Advertiser\, 2022 \n“Optimistic\, upbeat and effortlessly charming” Chortle.co.uk\, 2023 \nVenue: Fun Time Pony – 122 Alinga St\, Canberra City\nWhen: Saturday 31 August – 7:00pm (60 mins duration)\nTickets: $25.00 plus $0.50 ticketing fee
URL:https://comedyact.com.au/event/dane-simpson-always-was-always-will-be-funny/
LOCATION:Fun Time Pony\, 122 Alinga St\, Canberra City\, ACT\, 2600\, Australia
CATEGORIES:Feature,Ticketed
ATTACH;FMTTYPE=image/jpeg:https://comedyact.com.au/wp-content/uploads/2024/07/Dane-960x540-1.jpeg
END:VEVENT
END:VCALENDAR