BEGIN:VCALENDAR
VERSION:2.0
PRODID:-//Comedy ACT - ECPv6.15.11//NONSGML v1.0//EN
CALSCALE:GREGORIAN
METHOD:PUBLISH
X-WR-CALNAME:Comedy ACT
X-ORIGINAL-URL:https://comedyact.com.au
X-WR-CALDESC:Events for Comedy ACT
REFRESH-INTERVAL;VALUE=DURATION:PT1H
X-Robots-Tag:noindex
X-PUBLISHED-TTL:PT1H
BEGIN:VTIMEZONE
TZID:Australia/Sydney
BEGIN:STANDARD
TZOFFSETFROM:+1100
TZOFFSETTO:+1000
TZNAME:AEST
DTSTART:20230401T160000
END:STANDARD
BEGIN:DAYLIGHT
TZOFFSETFROM:+1000
TZOFFSETTO:+1100
TZNAME:AEDT
DTSTART:20230930T160000
END:DAYLIGHT
BEGIN:STANDARD
TZOFFSETFROM:+1100
TZOFFSETTO:+1000
TZNAME:AEST
DTSTART:20240406T160000
END:STANDARD
BEGIN:DAYLIGHT
TZOFFSETFROM:+1000
TZOFFSETTO:+1100
TZNAME:AEDT
DTSTART:20241005T160000
END:DAYLIGHT
BEGIN:STANDARD
TZOFFSETFROM:+1100
TZOFFSETTO:+1000
TZNAME:AEST
DTSTART:20250405T160000
END:STANDARD
BEGIN:DAYLIGHT
TZOFFSETFROM:+1000
TZOFFSETTO:+1100
TZNAME:AEDT
DTSTART:20251004T160000
END:DAYLIGHT
END:VTIMEZONE
BEGIN:VEVENT
DTSTART;TZID=Australia/Sydney:20240703T193000
DTEND;TZID=Australia/Sydney:20240703T213000
DTSTAMP:20260424T032554
CREATED:20240520T230007Z
LAST-MODIFIED:20240620T213310Z
UID:5236-1720035000-1720042200@comedyact.com.au
SUMMARY:Canberra Comedy Club featuring Brett Blake
DESCRIPTION:July Canberra Comedy Club featuring Brett Blake with Hamish Hudson\, Jacqui Richards\, Jeremy Smith\, Effie Tan and special guest MC Nick Capper. \nG’day legends! Get ready for a night of laughs as Brett Blake (Australia’s 2nd wildest comedian with a mullet) hits the road for his regional tour. If you’re keen for a ripper night of laughs\, beers\, and a good time\, then this is the show for you! \n Brett’s no stranger to the stage\, tearing up venues across the country for years now. You may have seen him on The Melbourne Comedy Festival Galas\, caught his YouTube Special “Go Hard or Go Home”\, as a guest on The Project\, or even acting alongside Dustin Martin in his jocks (yes\, even people with sloppy rigs can be underwear models). He’s featured on podcasts like Alpha Blokes\, The Little Dum Dum Club\, Flat Stick\, and Work Hate. \n Grab a beer\, book a seat\, and get ready to piss yourself laughing. No dorks allowed! \n“it was a raucous\, side-splitting 60 minutes of laughs.”  Adelaide Advertiser\n“Punchy and relevant insight… peppered with clever jabs at Australian culture.” The Age\n“Brett’s like an energizer bunny loaded up with relatable funny jokes\, he can tear the roof off. I love him.” Mel Buttle \nVenue: Fun Time Pony – 122 Alinga St Canberra City\nWhen: Wednesday 3rd of July – 7:30pm (doors open 7pm)\nTickets: $30 \n \n\nHere is a little preview of the Comedy Club down in the Basement at Fun Time Pony \n\nhttps://comedyact.com.au/wp-content/uploads/2024/03/Funtimeponystairwalk.mp4
URL:https://comedyact.com.au/event/canberra-comedy-club-featuring-brett-blake-2024/
LOCATION:Fun Time Pony\, 122 Alinga St\, Canberra City\, ACT\, 2600\, Australia
CATEGORIES:CanberraComedyClub,Feature,Ticketed
ATTACH;FMTTYPE=image/jpeg:https://comedyact.com.au/wp-content/uploads/2024/05/brett-blake.jpg
END:VEVENT
BEGIN:VEVENT
DTSTART;TZID=Australia/Sydney:20240704T193000
DTEND;TZID=Australia/Sydney:20240704T213000
DTSTAMP:20260424T032554
CREATED:20240521T230019Z
LAST-MODIFIED:20240609T020257Z
UID:5239-1720121400-1720128600@comedyact.com.au
SUMMARY:Belco Comedy Club featuring Brett Blake
DESCRIPTION:Belco look out – we thought having Brett Blake touring through was a good excuse to put on a comedy club show at The Baso. \nBelco Comedy Club featuring Brett Blake and supporting acts including special guest Nick Capper\, Hamish Hudson\, Sarah Ison\, Stell Muses and Marky Worthington. \nG’day legends! Get ready for a night of laughs as Brett Blake (Australia’s 2nd wildest comedian with a mullet) hits the road for his regional tour. If you’re keen for a ripper night of laughs\, beers\, and a good time\, then this is the show for you! \nBrett’s no stranger to the stage\, tearing up venues across the country for years now. You may have seen him on The Melbourne Comedy Festival Galas\, caught his YouTube Special “Go Hard or Go Home”\, as a guest on The Project\, or even acting alongside Dustin Martin in his jocks (yes\, even people with sloppy rigs can be underwear models). He’s featured on podcasts like Alpha Blokes\, The Little Dum Dum Club\, Flat Stick\, and Work Hate. \nGrab a beer\, book a seat\, and get ready to piss yourself laughing. No dorks allowed! \n“it was a raucous\, side-splitting 60 minutes of laughs.”  Adelaide Advertiser\n“Punchy and relevant insight… peppered with clever jabs at Australian culture.” The Age\n“Brett’s like an energizer bunny loaded up with relatable funny jokes\, he can tear the roof off. I love him.” Mel Buttle \nBrett will appear with local supports Stell Muses\, Marky Worthington\, Sarah Ison\, Hamish Hudson and MC Emo Parsonson \nVenue: The Baso –  2 Cohen St\, Belconnen\nWhen: Thursday 4th of July – 7:30pm (doors open 7pm)\nTickets: $30 HERE
URL:https://comedyact.com.au/event/belco-comedy-club-featuring-brett-blake-2024/
LOCATION:The Baso\, 2 Cohen St\, Belconnen\, ACT\, 2617\, Australia
CATEGORIES:CanberraComedyClub,Feature,Ticketed
ATTACH;FMTTYPE=image/jpeg:https://comedyact.com.au/wp-content/uploads/2024/05/belco-brett.jpg
END:VEVENT
BEGIN:VEVENT
DTSTART;TZID=Australia/Sydney:20240712T193000
DTEND;TZID=Australia/Sydney:20240712T211500
DTSTAMP:20260424T032554
CREATED:20240407T022352Z
LAST-MODIFIED:20240710T082818Z
UID:5188-1720812600-1720818900@comedyact.com.au
SUMMARY:Dave O'Neil with Brad Oakes at Collector
DESCRIPTION:Fat funny man Dave O’Neil is bringing his show to Collector after playing to sold out audiences across the Melbourne International Comedy Festival and receiving some pretty spectacular reviews. \nDave O’Neil may call himself a lightweight\, but with over 30 years of experience\, his cheeky brand of humour has made him one of Australia’s most loved comedians. With years of breakfast radio on Nova\, frequent appearances on Spicks and Specks\, a bunch of podcasts (including Somehow Related with Glenn Robbins and The Junkees with Kitty Flanagan) and a reputation for taking any corporate gig he is offered\, it takes a lot to throw this comedian off his game! \nDave will be joined by his friend and regular on The Debrief podcast\, Brad Oakes (Hey Hey it’s Saturday\, Comedy Company)\, for what will be a night of laughs with two of Australia’s longest working comedians. \nLicensed Bar – this event will have a licensed bar with a range of beer\, wine and soft drinks available for purchase by cash or card on the night. \nMeals available pre-show – Lousy Hunters Food Co. will have meals available for dining at the hall before the show (service between 6:30 and 7:00pm). Meals will need to be ordered by 5pm on Thursday 11 July to guarantee you get what you want (although some serves will be available on the night). Please order when purchasing tickets. \nVenue: Collector Memorial Hall\, Bourke Street\, Collector\nWhen: Friday 12 July – 7:30pm to 9:15pm (doors open 7pm)\nTickets: $30 plus $0.50 ticketing fee
URL:https://comedyact.com.au/event/dave-oneil-with-brad-oakes-at-collector/
LOCATION:Collector Memorial Hall\, Bourke Street\, Collector\, NSW\, 2581\, Australia
CATEGORIES:Feature,Ticketed
ATTACH;FMTTYPE=image/jpeg:https://comedyact.com.au/wp-content/uploads/2024/04/Collector_Comedy-1920x1080-20240712.jpg
END:VEVENT
BEGIN:VEVENT
DTSTART;TZID=Australia/Sydney:20240727T190000
DTEND;TZID=Australia/Sydney:20240727T200000
DTSTAMP:20260424T032554
CREATED:20240407T104258Z
LAST-MODIFIED:20240624T103547Z
UID:5197-1722106800-1722110400@comedyact.com.au
SUMMARY:Anthony Locascio - Pappou
DESCRIPTION:Anthony Locascio’s Pappou (grandfather) immigrated to Australia from Greece in the 1950s\, ferried over to become the top goalkeeper in Australian soccer. This dream came to an abrupt end when Pappou’s fist had a chance encounter with a referree’s head. Being a man was different back then. \nIn 2024\, his grandson’s dream of being a stand-up comedian hangs in the balance\, as he contends with the challenges of a modern man – staying off the vapes\, raising kittens and defeating the corruption of world football from the safety of a podcast microphone. \nIn his 2024 show\, Australia’s king of post-ethnic comedy returns with a show juxtaposing these two men to determine whether Anthony is carrying on Pappou’s legacy by chasing his dream\, or if he just should’ve become a doctor like his grandfather always wanted. \nAnthony Locascio is one of Australian comedy’s rising stars. Blending sharp joke writing with musings on his ethnic background\, Anthony is best known for his unique storytelling. \nHe completed back to back national tours in 2022 and 2023 with the highly successful ‘Don’t Call Me A Wog!’ and ‘Heart Of Darkness’. \nThese took him to the Adelaide Fringe\, Melbourne International Comedy Festival\, the Perth\, Newcastle\, Wollongong and Sydney Comedy Festivals\, as well as indipendant shows in Brisbane and Canberra. \nHe was hand picked for the Perth and Sydney Comedy Festival Galas in 2021 & 2022. \n“Anthony embodies the thinking man’s comedian\, prepared to traverse the publicly taboo and unexplored recesses of the human psyche” \n★★★★★ Dark Stories Theatre \nVenue: Fun Time Pony – 122 Alinga St\, Canberra City\nWhen: Saturday 27 July – 7:00pm (60 mins duration)\nTickets: $34.50 plus $0.50 ticketing fee
URL:https://comedyact.com.au/event/anthony-locascio-pappou/
LOCATION:Fun Time Pony\, 122 Alinga St\, Canberra City\, ACT\, 2600\, Australia
CATEGORIES:Feature,Ticketed
ATTACH;FMTTYPE=image/jpeg:https://comedyact.com.au/wp-content/uploads/2024/04/Pappou-1920x1080-1.jpg
END:VEVENT
END:VCALENDAR