BEGIN:VCALENDAR
VERSION:2.0
PRODID:-//Comedy ACT - ECPv6.15.11//NONSGML v1.0//EN
CALSCALE:GREGORIAN
METHOD:PUBLISH
X-ORIGINAL-URL:https://comedyact.com.au
X-WR-CALDESC:Events for Comedy ACT
REFRESH-INTERVAL;VALUE=DURATION:PT1H
X-Robots-Tag:noindex
X-PUBLISHED-TTL:PT1H
BEGIN:VTIMEZONE
TZID:Australia/Sydney
BEGIN:STANDARD
TZOFFSETFROM:+1100
TZOFFSETTO:+1000
TZNAME:AEST
DTSTART:20220402T160000
END:STANDARD
BEGIN:DAYLIGHT
TZOFFSETFROM:+1000
TZOFFSETTO:+1100
TZNAME:AEDT
DTSTART:20221001T160000
END:DAYLIGHT
BEGIN:STANDARD
TZOFFSETFROM:+1100
TZOFFSETTO:+1000
TZNAME:AEST
DTSTART:20230401T160000
END:STANDARD
BEGIN:DAYLIGHT
TZOFFSETFROM:+1000
TZOFFSETTO:+1100
TZNAME:AEDT
DTSTART:20230930T160000
END:DAYLIGHT
BEGIN:STANDARD
TZOFFSETFROM:+1100
TZOFFSETTO:+1000
TZNAME:AEST
DTSTART:20240406T160000
END:STANDARD
BEGIN:DAYLIGHT
TZOFFSETFROM:+1000
TZOFFSETTO:+1100
TZNAME:AEDT
DTSTART:20241005T160000
END:DAYLIGHT
END:VTIMEZONE
BEGIN:VEVENT
DTSTART;TZID=Australia/Sydney:20231007T183000
DTEND;TZID=Australia/Sydney:20231007T213000
DTSTAMP:20260424T160737
CREATED:20230824T205541Z
LAST-MODIFIED:20230915T120137Z
UID:5105-1696703400-1696714200@comedyact.com.au
SUMMARY:Contentious Comedy Debate
DESCRIPTION:Get ready for a night at Contentious Character Winery with points made with the sharpest of wits. Watch punchline thrown after punchline. It is funny vs funny. After a sellout success in April\, the Contentious Comedy Debate is back with the topic: Singles do it better than couples! \nWe have assembled some ridiculously entertaining Canberra humorists who are going to slap each other silly with a scintillating turn of phrase. All for your enjoyment in this epic debate which will take place with food\, and of course\, wine! \n \n  \nNow all you have to do is gather your single friends or come armed in couples (or more!) to champion a team and show who is doing it better! Of course\, it is okay to be persuaded by the debate and switch allegiances if the fancy takes you. It’s as easy as switching your profile on Tinder! \nTo book use this link for the ticket options below Buy Tickets\nTicket options: \n\ncheeseboard and show only (barrel seating): $70 per person\n3-course menu and show: $95 per person\n3-course menu with paired drinks and show: $120 per person\n\nTables and barrels are inside and on the covered verandah with heating. Everyone will be able to see and hear the debate. Seats can be brought inside for the show happening in between meal service. \nAnd if the Debate persuades you over to the other team\, switching allegiances is as easy as switching your profile on Tinder 😉 See you on Saturday 7th October!
URL:https://comedyact.com.au/event/contentious-comedy-debate/
LOCATION:Contentious Character Urban Winery\, 1 Dairy Road\, Fyshwick\, ACT\, 2609\, Australia
CATEGORIES:Feature,Ticketed
ATTACH;FMTTYPE=image/jpeg:https://comedyact.com.au/wp-content/uploads/2023/08/CoedyACT-Oct-debate-scaled.jpg
END:VEVENT
END:VCALENDAR