BEGIN:VCALENDAR
VERSION:2.0
PRODID:-//Comedy ACT - ECPv6.15.11//NONSGML v1.0//EN
CALSCALE:GREGORIAN
METHOD:PUBLISH
X-ORIGINAL-URL:https://comedyact.com.au
X-WR-CALDESC:Events for Comedy ACT
REFRESH-INTERVAL;VALUE=DURATION:PT1H
X-Robots-Tag:noindex
X-PUBLISHED-TTL:PT1H
BEGIN:VTIMEZONE
TZID:Australia/Sydney
BEGIN:STANDARD
TZOFFSETFROM:+1100
TZOFFSETTO:+1000
TZNAME:AEST
DTSTART:20220402T160000
END:STANDARD
BEGIN:DAYLIGHT
TZOFFSETFROM:+1000
TZOFFSETTO:+1100
TZNAME:AEDT
DTSTART:20221001T160000
END:DAYLIGHT
BEGIN:STANDARD
TZOFFSETFROM:+1100
TZOFFSETTO:+1000
TZNAME:AEST
DTSTART:20230401T160000
END:STANDARD
BEGIN:DAYLIGHT
TZOFFSETFROM:+1000
TZOFFSETTO:+1100
TZNAME:AEDT
DTSTART:20230930T160000
END:DAYLIGHT
BEGIN:STANDARD
TZOFFSETFROM:+1100
TZOFFSETTO:+1000
TZNAME:AEST
DTSTART:20240406T160000
END:STANDARD
BEGIN:DAYLIGHT
TZOFFSETFROM:+1000
TZOFFSETTO:+1100
TZNAME:AEDT
DTSTART:20241005T160000
END:DAYLIGHT
BEGIN:STANDARD
TZOFFSETFROM:+1100
TZOFFSETTO:+1000
TZNAME:AEST
DTSTART:20250405T160000
END:STANDARD
BEGIN:DAYLIGHT
TZOFFSETFROM:+1000
TZOFFSETTO:+1100
TZNAME:AEDT
DTSTART:20251004T160000
END:DAYLIGHT
BEGIN:STANDARD
TZOFFSETFROM:+1100
TZOFFSETTO:+1000
TZNAME:AEST
DTSTART:20260404T160000
END:STANDARD
BEGIN:DAYLIGHT
TZOFFSETFROM:+1000
TZOFFSETTO:+1100
TZNAME:AEDT
DTSTART:20261003T160000
END:DAYLIGHT
END:VTIMEZONE
BEGIN:VEVENT
DTSTART;TZID=Australia/Sydney:20250130T193000
DTEND;TZID=Australia/Sydney:20250130T210000
DTSTAMP:20260425T065258
CREATED:20250119T103545Z
LAST-MODIFIED:20250119T103647Z
UID:5445-1738265400-1738270800@comedyact.com.au
SUMMARY:RAW Comedy ACT Heats
DESCRIPTION:Experience a showdown of wits at Melbourne International Comedy Festival’s RAW Comedy competition\, back for another year to spotlight the freshest comedic talent from across the country! \nFor the past 28 years\, emerging comedians have gathered for a showdown of wits in this nation’s most extensive and esteemed open-mic comedy competition. This year is no different! Get ready to witness the rise of the next wave of comedy legends as they take the stage in the quest to find the ultimate ‘hidden gem’ of the comedy world. \nDon’t miss out on experiencing our talented competitors in peak condition as they engage in hilarious battle at RAW Comedy 2025! \nThe RAW Comedy heats are being held at Novotel Canberra. You can present your ticket on the night to receive a 15% discount on meals purchased at Novotel’s First Edition Bar and Restaurant. See the menu here: https://www.firsteditioncanberra.com.au \nRAW Comedy is the country’s premier platform for promising comedic talent\, boasting an impressive alumni line-up including Anne Edmonds\, Ronny Chieng\, Tom Ballard\, Sam Campbell\, Sarah Kendall\, Georgie Carroll\, Celia Pacquola\, Josh Thomas\, Hannah Gadsby\, Aaron Chen \, Rhys Nicholson \, Becky Lucas and Joel Creasey \, just to name a few. Head along and witness a new generation of comedy legends – the future looks funny! \nTo find out more info or to register to compete – head to rawcomedy.com.au
URL:https://comedyact.com.au/event/raw-comedy-act-heat-1-2/
LOCATION:Novotel Canberra\, 65 Northbourne Ave\, Canberra\, ACT\, 2600\, Australia
CATEGORIES:Feature,RAW Comedy,Ticketed
ATTACH;FMTTYPE=image/jpeg:https://comedyact.com.au/wp-content/uploads/2025/01/RAW25_1920x1080.jpg
END:VEVENT
BEGIN:VEVENT
DTSTART;TZID=Australia/Sydney:20250130T193000
DTEND;TZID=Australia/Sydney:20250130T210000
DTSTAMP:20260425T065258
CREATED:20250119T103545Z
LAST-MODIFIED:20250119T103647Z
UID:5445-1738265400-1738270800@comedyact.com.au
SUMMARY:RAW Comedy ACT Heats
DESCRIPTION:Experience a showdown of wits at Melbourne International Comedy Festival’s RAW Comedy competition\, back for another year to spotlight the freshest comedic talent from across the country! \nFor the past 28 years\, emerging comedians have gathered for a showdown of wits in this nation’s most extensive and esteemed open-mic comedy competition. This year is no different! Get ready to witness the rise of the next wave of comedy legends as they take the stage in the quest to find the ultimate ‘hidden gem’ of the comedy world. \nDon’t miss out on experiencing our talented competitors in peak condition as they engage in hilarious battle at RAW Comedy 2025! \nThe RAW Comedy heats are being held at Novotel Canberra. You can present your ticket on the night to receive a 15% discount on meals purchased at Novotel’s First Edition Bar and Restaurant. See the menu here: https://www.firsteditioncanberra.com.au \nRAW Comedy is the country’s premier platform for promising comedic talent\, boasting an impressive alumni line-up including Anne Edmonds\, Ronny Chieng\, Tom Ballard\, Sam Campbell\, Sarah Kendall\, Georgie Carroll\, Celia Pacquola\, Josh Thomas\, Hannah Gadsby\, Aaron Chen \, Rhys Nicholson \, Becky Lucas and Joel Creasey \, just to name a few. Head along and witness a new generation of comedy legends – the future looks funny! \nTo find out more info or to register to compete – head to rawcomedy.com.au
URL:https://comedyact.com.au/event/raw-comedy-act-heat-1-2/
LOCATION:Novotel Canberra\, 65 Northbourne Ave\, Canberra\, ACT\, 2600\, Australia
CATEGORIES:Feature,RAW Comedy,Ticketed
ATTACH;FMTTYPE=image/jpeg:https://comedyact.com.au/wp-content/uploads/2025/01/RAW25_1920x1080.jpg
END:VEVENT
BEGIN:VEVENT
DTSTART;TZID=Australia/Sydney:20250130T193000
DTEND;TZID=Australia/Sydney:20250130T210000
DTSTAMP:20260425T065258
CREATED:20250119T103545Z
LAST-MODIFIED:20250119T103647Z
UID:5445-1738265400-1738270800@comedyact.com.au
SUMMARY:RAW Comedy ACT Heats
DESCRIPTION:Experience a showdown of wits at Melbourne International Comedy Festival’s RAW Comedy competition\, back for another year to spotlight the freshest comedic talent from across the country! \nFor the past 28 years\, emerging comedians have gathered for a showdown of wits in this nation’s most extensive and esteemed open-mic comedy competition. This year is no different! Get ready to witness the rise of the next wave of comedy legends as they take the stage in the quest to find the ultimate ‘hidden gem’ of the comedy world. \nDon’t miss out on experiencing our talented competitors in peak condition as they engage in hilarious battle at RAW Comedy 2025! \nThe RAW Comedy heats are being held at Novotel Canberra. You can present your ticket on the night to receive a 15% discount on meals purchased at Novotel’s First Edition Bar and Restaurant. See the menu here: https://www.firsteditioncanberra.com.au \nRAW Comedy is the country’s premier platform for promising comedic talent\, boasting an impressive alumni line-up including Anne Edmonds\, Ronny Chieng\, Tom Ballard\, Sam Campbell\, Sarah Kendall\, Georgie Carroll\, Celia Pacquola\, Josh Thomas\, Hannah Gadsby\, Aaron Chen \, Rhys Nicholson \, Becky Lucas and Joel Creasey \, just to name a few. Head along and witness a new generation of comedy legends – the future looks funny! \nTo find out more info or to register to compete – head to rawcomedy.com.au
URL:https://comedyact.com.au/event/raw-comedy-act-heat-1-2/
LOCATION:Novotel Canberra\, 65 Northbourne Ave\, Canberra\, ACT\, 2600\, Australia
CATEGORIES:Feature,RAW Comedy,Ticketed
ATTACH;FMTTYPE=image/jpeg:https://comedyact.com.au/wp-content/uploads/2025/01/RAW25_1920x1080.jpg
END:VEVENT
BEGIN:VEVENT
DTSTART;TZID=Australia/Sydney:20240118T200000
DTEND;TZID=Australia/Sydney:20240118T220000
DTSTAMP:20260425T065258
CREATED:20240108T062805Z
LAST-MODIFIED:20240114T210541Z
UID:5134-1705608000-1705615200@comedyact.com.au
SUMMARY:Raw Comedy - ACT Heats
DESCRIPTION:For the past 28 years\, emerging comedians have gathered for a showdown of wits in this nation’s most extensive and esteemed open – mic comedy competition. This year is no different\, get ready to witness the rise of the next wave of comedy legends as they take the stage in the quest to find the ultimate ‘hidden gem’ of the comedy world. \nDon’t miss out on experiencing our talented competitors in peak condition as they engage in an hilarious battle at RAW Comedy 2024! \nRAW Comedy Alumni include: Anne Edmonds\, Hannah Gadsby\, Ronny Chieng\, Matt Okine\, Becky Lucas\, Aaron Chen\, Sarah Kendall\, Sam Simmons\, Celia Pacquola\, Luke McGregor\, Rhys Nicholson\, Tom Ballard\, Sam Campbell\, Georgie Carroll\, David Woodhead\, Cassie Workman and more. \nFeeling up to the challenge and want to compete? Waste no time\, register today for RAW Comedy 2024\, and let the comedy parade begin! \nFor more info and to sign up visit rawcomedy.com.au. \nSessions\nThursday – 18 January 2024 – 8:00 PM\nFriday – 19 January 2024 – 8:00 PM\nSaturday – 20 January 2024 – 8:00 PM \nDuration – 110 mins \nVenue\nFirst Floor – Novotel Canberra \nTickets\nAdult $19.50 * \n*Ticketing Fee of $0.50 per ticket applies \nBOOK ONLINE HERE
URL:https://comedyact.com.au/event/raw-comedy-act-heats/
LOCATION:Novotel Canberra\, 65 Northbourne Ave\, Canberra\, ACT\, 2600\, Australia
CATEGORIES:Feature,RAW Comedy
ATTACH;FMTTYPE=image/jpeg:https://comedyact.com.au/wp-content/uploads/2024/01/RAW-Comedy-Large-1920x1080-1.jpg
END:VEVENT
BEGIN:VEVENT
DTSTART;TZID=Australia/Sydney:20240118T200000
DTEND;TZID=Australia/Sydney:20240118T220000
DTSTAMP:20260425T065258
CREATED:20240108T062805Z
LAST-MODIFIED:20240114T210541Z
UID:5134-1705608000-1705615200@comedyact.com.au
SUMMARY:Raw Comedy - ACT Heats
DESCRIPTION:For the past 28 years\, emerging comedians have gathered for a showdown of wits in this nation’s most extensive and esteemed open – mic comedy competition. This year is no different\, get ready to witness the rise of the next wave of comedy legends as they take the stage in the quest to find the ultimate ‘hidden gem’ of the comedy world. \nDon’t miss out on experiencing our talented competitors in peak condition as they engage in an hilarious battle at RAW Comedy 2024! \nRAW Comedy Alumni include: Anne Edmonds\, Hannah Gadsby\, Ronny Chieng\, Matt Okine\, Becky Lucas\, Aaron Chen\, Sarah Kendall\, Sam Simmons\, Celia Pacquola\, Luke McGregor\, Rhys Nicholson\, Tom Ballard\, Sam Campbell\, Georgie Carroll\, David Woodhead\, Cassie Workman and more. \nFeeling up to the challenge and want to compete? Waste no time\, register today for RAW Comedy 2024\, and let the comedy parade begin! \nFor more info and to sign up visit rawcomedy.com.au. \nSessions\nThursday – 18 January 2024 – 8:00 PM\nFriday – 19 January 2024 – 8:00 PM\nSaturday – 20 January 2024 – 8:00 PM \nDuration – 110 mins \nVenue\nFirst Floor – Novotel Canberra \nTickets\nAdult $19.50 * \n*Ticketing Fee of $0.50 per ticket applies \nBOOK ONLINE HERE
URL:https://comedyact.com.au/event/raw-comedy-act-heats/
LOCATION:Novotel Canberra\, 65 Northbourne Ave\, Canberra\, ACT\, 2600\, Australia
CATEGORIES:Feature,RAW Comedy
ATTACH;FMTTYPE=image/jpeg:https://comedyact.com.au/wp-content/uploads/2024/01/RAW-Comedy-Large-1920x1080-1.jpg
END:VEVENT
BEGIN:VEVENT
DTSTART;TZID=Australia/Sydney:20240118T200000
DTEND;TZID=Australia/Sydney:20240118T220000
DTSTAMP:20260425T065258
CREATED:20240108T062805Z
LAST-MODIFIED:20240114T210541Z
UID:5134-1705608000-1705615200@comedyact.com.au
SUMMARY:Raw Comedy - ACT Heats
DESCRIPTION:For the past 28 years\, emerging comedians have gathered for a showdown of wits in this nation’s most extensive and esteemed open – mic comedy competition. This year is no different\, get ready to witness the rise of the next wave of comedy legends as they take the stage in the quest to find the ultimate ‘hidden gem’ of the comedy world. \nDon’t miss out on experiencing our talented competitors in peak condition as they engage in an hilarious battle at RAW Comedy 2024! \nRAW Comedy Alumni include: Anne Edmonds\, Hannah Gadsby\, Ronny Chieng\, Matt Okine\, Becky Lucas\, Aaron Chen\, Sarah Kendall\, Sam Simmons\, Celia Pacquola\, Luke McGregor\, Rhys Nicholson\, Tom Ballard\, Sam Campbell\, Georgie Carroll\, David Woodhead\, Cassie Workman and more. \nFeeling up to the challenge and want to compete? Waste no time\, register today for RAW Comedy 2024\, and let the comedy parade begin! \nFor more info and to sign up visit rawcomedy.com.au. \nSessions\nThursday – 18 January 2024 – 8:00 PM\nFriday – 19 January 2024 – 8:00 PM\nSaturday – 20 January 2024 – 8:00 PM \nDuration – 110 mins \nVenue\nFirst Floor – Novotel Canberra \nTickets\nAdult $19.50 * \n*Ticketing Fee of $0.50 per ticket applies \nBOOK ONLINE HERE
URL:https://comedyact.com.au/event/raw-comedy-act-heats/
LOCATION:Novotel Canberra\, 65 Northbourne Ave\, Canberra\, ACT\, 2600\, Australia
CATEGORIES:Feature,RAW Comedy
ATTACH;FMTTYPE=image/jpeg:https://comedyact.com.au/wp-content/uploads/2024/01/RAW-Comedy-Large-1920x1080-1.jpg
END:VEVENT
BEGIN:VEVENT
DTSTART;TZID=Australia/Sydney:20230215T193000
DTEND;TZID=Australia/Sydney:20230215T220000
DTSTAMP:20260425T065258
CREATED:20230115T103300Z
LAST-MODIFIED:20230129T040007Z
UID:4672-1676489400-1676498400@comedyact.com.au
SUMMARY:RAW Comedy 2023 - ACT Heat 3
DESCRIPTION:RAW Comedy 2023 – ACT Heats\nMelbourne International Comedy Festival and Canberra Comedy Festival Proudly Present \nRAW COMEDY 2023 \nFor the last 27 years\, jokesters from across Australia have come together to compete with their wit at RAW Comedy\, the country’s largest and most prestigious open mic comedy competition. \nWatch the next Generation of comedy superstars as they step up to the plate and join the play-off to become the last ‘undiscovered joker’ standing. Who will reign victorious!?\nCome watch history in the making as our comedy competitors stack up their best jokes and battle it out a RAW Comedy 2023!\nFor more info (or to register to compete) visit rawcomedy.com.au \nThree heats will be held with winners progressing to the ACT State Final\, with the winner of the final going to the National Final at the Melbourne International Comedy Festival \nHeats\nWednesday – 8 February 2023 – 7:30pm\nThursday – 9 February 2023 – 7:30pm\nWednesday – 15 February 2023 – 7:30pm \nVenue\nTransit Bar – Baileys Corner \nTickets\n$20*\n* Includes ticketing fee \nBuy Tickets \n  \n 
URL:https://comedyact.com.au/event/2023-02-15/
LOCATION:Transit Bar\, Bailey's Corner\, 143 London Cct\, Canberra\, ACT\, 2609\, Australia
CATEGORIES:Feature,RAW Comedy
ATTACH;FMTTYPE=image/jpeg:https://comedyact.com.au/wp-content/uploads/2023/01/Raw_Comedy-960x576-1.jpg
END:VEVENT
BEGIN:VEVENT
DTSTART;TZID=Australia/Sydney:20230209T193000
DTEND;TZID=Australia/Sydney:20230209T220000
DTSTAMP:20260425T065258
CREATED:20230115T103300Z
LAST-MODIFIED:20230129T035925Z
UID:4666-1675971000-1675980000@comedyact.com.au
SUMMARY:RAW Comedy 2023 - ACT Heat 2
DESCRIPTION:RAW Comedy 2023 – ACT Heats\nMelbourne International Comedy Festival and Canberra Comedy Festival Proudly Present \nRAW COMEDY 2023 \nFor the last 27 years\, jokesters from across Australia have come together to compete with their wit at RAW Comedy\, the country’s largest and most prestigious open mic comedy competition. \nWatch the next Generation of comedy superstars as they step up to the plate and join the play-off to become the last ‘undiscovered joker’ standing. Who will reign victorious!?\nCome watch history in the making as our comedy competitors stack up their best jokes and battle it out a RAW Comedy 2023!\nFor more info (or to register to compete) visit rawcomedy.com.au \nThree heats will be held with winners progressing to the ACT State Final\, with the winner of the final going to the National Final at the Melbourne International Comedy Festival \nHeats\nWednesday – 8 February 2023 – 7:30pm\nThursday – 9 February 2023 – 7:30pm\nWednesday – 15 February 2023 – 7:30pm \nVenue\nTransit Bar – Baileys Corner \nTickets\n$20*\n* Includes ticketing fee \nBuy Tickets \n  \n 
URL:https://comedyact.com.au/event/2023-02-09/
LOCATION:Transit Bar\, Bailey's Corner\, 143 London Cct\, Canberra\, ACT\, 2609\, Australia
CATEGORIES:Feature,RAW Comedy
ATTACH;FMTTYPE=image/jpeg:https://comedyact.com.au/wp-content/uploads/2023/01/Raw_Comedy-960x576-1.jpg
END:VEVENT
BEGIN:VEVENT
DTSTART;TZID=Australia/Sydney:20230208T193000
DTEND;TZID=Australia/Sydney:20230208T220000
DTSTAMP:20260425T065258
CREATED:20230115T103300Z
LAST-MODIFIED:20230129T035814Z
UID:4663-1675884600-1675893600@comedyact.com.au
SUMMARY:RAW Comedy 2023 - ACT Heat 1
DESCRIPTION:RAW Comedy 2023 – ACT Heats\nMelbourne International Comedy Festival and Canberra Comedy Festival Proudly Present \nRAW COMEDY 2023 \nFor the last 27 years\, jokesters from across Australia have come together to compete with their wit at RAW Comedy\, the country’s largest and most prestigious open mic comedy competition. \nWatch the next Generation of comedy superstars as they step up to the plate and join the play-off to become the last ‘undiscovered joker’ standing. Who will reign victorious!?\nCome watch history in the making as our comedy competitors stack up their best jokes and battle it out a RAW Comedy 2023!\nFor more info (or to register to compete) visit rawcomedy.com.au \nThree heats will be held with winners progressing to the ACT State Final\, with the winner of the final going to the National Final at the Melbourne International Comedy Festival \nHeats\nWednesday – 8 February 2023 – 7:30pm\nThursday – 9 February 2023 – 7:30pm\nWednesday – 15 February 2023 – 7:30pm \nVenue\nTransit Bar – Baileys Corner \nTickets\n$20*\n* Includes ticketing fee \nBuy Tickets \n  \n 
URL:https://comedyact.com.au/event/raw-comedy-2023-act-heats/
LOCATION:Transit Bar\, Bailey's Corner\, 143 London Cct\, Canberra\, ACT\, 2609\, Australia
CATEGORIES:Feature,RAW Comedy
ATTACH;FMTTYPE=image/jpeg:https://comedyact.com.au/wp-content/uploads/2023/01/Raw_Comedy-960x576-1.jpg
END:VEVENT
END:VCALENDAR