BEGIN:VCALENDAR
VERSION:2.0
PRODID:-//Comedy ACT - ECPv6.15.11//NONSGML v1.0//EN
CALSCALE:GREGORIAN
METHOD:PUBLISH
X-WR-CALNAME:Comedy ACT
X-ORIGINAL-URL:https://comedyact.com.au
X-WR-CALDESC:Events for Comedy ACT
REFRESH-INTERVAL;VALUE=DURATION:PT1H
X-Robots-Tag:noindex
X-PUBLISHED-TTL:PT1H
BEGIN:VTIMEZONE
TZID:Australia/Sydney
BEGIN:STANDARD
TZOFFSETFROM:+1100
TZOFFSETTO:+1000
TZNAME:AEST
DTSTART:20240406T160000
END:STANDARD
BEGIN:DAYLIGHT
TZOFFSETFROM:+1000
TZOFFSETTO:+1100
TZNAME:AEDT
DTSTART:20241005T160000
END:DAYLIGHT
BEGIN:STANDARD
TZOFFSETFROM:+1100
TZOFFSETTO:+1000
TZNAME:AEST
DTSTART:20250405T160000
END:STANDARD
BEGIN:DAYLIGHT
TZOFFSETFROM:+1000
TZOFFSETTO:+1100
TZNAME:AEDT
DTSTART:20251004T160000
END:DAYLIGHT
BEGIN:STANDARD
TZOFFSETFROM:+1100
TZOFFSETTO:+1000
TZNAME:AEST
DTSTART:20260404T160000
END:STANDARD
BEGIN:DAYLIGHT
TZOFFSETFROM:+1000
TZOFFSETTO:+1100
TZNAME:AEDT
DTSTART:20261003T160000
END:DAYLIGHT
END:VTIMEZONE
BEGIN:VEVENT
DTSTART;TZID=Australia/Sydney:20250625T190000
DTEND;TZID=Australia/Sydney:20250625T210000
DTSTAMP:20260421T195920
CREATED:20250616T110505Z
LAST-MODIFIED:20250622T110811Z
UID:5506-1750878000-1750885200@comedyact.com.au
SUMMARY:Ho-Ho-Ho and a Barrel of Laughs!
DESCRIPTION:THE TRADIES COMEDY NIGHT LINEUP:\nFEATURING SOME OF THE CANBERRA REGION’S TOP COMEDIANS! \nHamish Hudson\nChris Ryan\nSam Silla\nJeremy Smith\nJelin Palm\nCharlotte Kuruc\nGreg Kimball\n\n\nDate: Wednesday 25 June\nTime: 7pm\nDuration: Approx 2 hrs including interval \nVenue: The Tradies\, 2 Badham St\, Dickson\, ACT 2602\nCost: Free for Members & Guests
URL:https://comedyact.com.au/event/ho-ho-ho-and-a-barrel-of-laughs/
LOCATION:The Tradies\, 2 Badham St\, Dickson\, ACT\, 2602\, Australia
CATEGORIES:Feature,Free Entry
ATTACH;FMTTYPE=image/jpeg:https://comedyact.com.au/wp-content/uploads/2025/06/TTD_63002-Christmas_In_June_2025_Social-Tiles_Page_10-1920x1080-1.jpg
END:VEVENT
END:VCALENDAR